BEGIN:VCALENDAR
VERSION:2.0
PRODID:-//Huckleberry Brewing Company - ECPv6.15.20//NONSGML v1.0//EN
CALSCALE:GREGORIAN
METHOD:PUBLISH
X-ORIGINAL-URL:https://huckleberrybrewingcompany.com
X-WR-CALDESC:Events for Huckleberry Brewing Company
REFRESH-INTERVAL;VALUE=DURATION:PT1H
X-Robots-Tag:noindex
X-PUBLISHED-TTL:PT1H
BEGIN:VTIMEZONE
TZID:UTC
BEGIN:STANDARD
TZOFFSETFROM:+0000
TZOFFSETTO:+0000
TZNAME:UTC
DTSTART:20220101T000000
END:STANDARD
END:VTIMEZONE
BEGIN:VEVENT
DTSTART;VALUE=DATE:20230418
DTEND;VALUE=DATE:20230419
DTSTAMP:20260421T153742
CREATED:20230328T145924Z
LAST-MODIFIED:20230328T145924Z
UID:3040-1681776000-1681862399@huckleberrybrewingcompany.com
SUMMARY:$4 Off Growler Fills
DESCRIPTION:
URL:https://huckleberrybrewingcompany.com/event/4-off-growler-fills-10/
END:VEVENT
BEGIN:VEVENT
DTSTART;TZID=UTC:20230419T183000
DTEND;TZID=UTC:20230419T210000
DTSTAMP:20260421T153742
CREATED:20230328T150056Z
LAST-MODIFIED:20230328T150056Z
UID:3048-1681929000-1681938000@huckleberrybrewingcompany.com
SUMMARY:Geeks Who Drink Trivia @ 6:30
DESCRIPTION:
URL:https://huckleberrybrewingcompany.com/event/geeks-who-drink-trivia-630-3/
END:VEVENT
BEGIN:VEVENT
DTSTART;TZID=UTC:20230420T180000
DTEND;TZID=UTC:20230420T220000
DTSTAMP:20260421T153742
CREATED:20230328T150435Z
LAST-MODIFIED:20230328T150435Z
UID:3056-1682013600-1682028000@huckleberrybrewingcompany.com
SUMMARY:Paint Class
DESCRIPTION:https://www.bayoubrusharts.com/
URL:https://huckleberrybrewingcompany.com/event/paint-class/
END:VEVENT
BEGIN:VEVENT
DTSTART;TZID=UTC:20230421T190000
DTEND;TZID=UTC:20230421T220000
DTSTAMP:20260421T153742
CREATED:20230328T150701Z
LAST-MODIFIED:20230328T150701Z
UID:3066-1682103600-1682114400@huckleberrybrewingcompany.com
SUMMARY:Austin Gauge
DESCRIPTION:
URL:https://huckleberrybrewingcompany.com/event/austin-gauge/
END:VEVENT
BEGIN:VEVENT
DTSTART;TZID=UTC:20230422T190000
DTEND;TZID=UTC:20230422T220000
DTSTAMP:20260421T153742
CREATED:20230328T150729Z
LAST-MODIFIED:20230328T150729Z
UID:3068-1682190000-1682200800@huckleberrybrewingcompany.com
SUMMARY:Rock the Huck 8
DESCRIPTION:
URL:https://huckleberrybrewingcompany.com/event/rock-the-huck-8/
END:VEVENT
BEGIN:VEVENT
DTSTART;VALUE=DATE:20230425
DTEND;VALUE=DATE:20230426
DTSTAMP:20260421T153742
CREATED:20230328T145940Z
LAST-MODIFIED:20230328T145940Z
UID:3042-1682380800-1682467199@huckleberrybrewingcompany.com
SUMMARY:$4 Off Growler Fills
DESCRIPTION:
URL:https://huckleberrybrewingcompany.com/event/4-off-growler-fills-11/
END:VEVENT
BEGIN:VEVENT
DTSTART;TZID=UTC:20230426T183000
DTEND;TZID=UTC:20230426T210000
DTSTAMP:20260421T153742
CREATED:20230328T150112Z
LAST-MODIFIED:20230328T150112Z
UID:3050-1682533800-1682542800@huckleberrybrewingcompany.com
SUMMARY:Geeks Who Drink Trivia @ 6:30
DESCRIPTION:
URL:https://huckleberrybrewingcompany.com/event/geeks-who-drink-trivia-630-4/
END:VEVENT
BEGIN:VEVENT
DTSTART;TZID=UTC:20230427T190000
DTEND;TZID=UTC:20230427T220000
DTSTAMP:20260421T153742
CREATED:20230328T150514Z
LAST-MODIFIED:20230328T150514Z
UID:3058-1682622000-1682632800@huckleberrybrewingcompany.com
SUMMARY:Karaoke
DESCRIPTION:
URL:https://huckleberrybrewingcompany.com/event/karaoke-9/
END:VEVENT
BEGIN:VEVENT
DTSTART;TZID=UTC:20230428T190000
DTEND;TZID=UTC:20230428T220000
DTSTAMP:20260421T153742
CREATED:20230328T150750Z
LAST-MODIFIED:20230328T150750Z
UID:3070-1682708400-1682719200@huckleberrybrewingcompany.com
SUMMARY:Eric Leger
DESCRIPTION:
URL:https://huckleberrybrewingcompany.com/event/eric-leger-2/
END:VEVENT
BEGIN:VEVENT
DTSTART;TZID=UTC:20230429T130000
DTEND;TZID=UTC:20230429T170000
DTSTAMP:20260421T153742
CREATED:20230328T150827Z
LAST-MODIFIED:20230328T150827Z
UID:3072-1682773200-1682787600@huckleberrybrewingcompany.com
SUMMARY:Private Event - 1-5pm
DESCRIPTION:
URL:https://huckleberrybrewingcompany.com/event/private-event-1-5pm/
END:VEVENT
BEGIN:VEVENT
DTSTART;TZID=UTC:20230429T190000
DTEND;TZID=UTC:20230429T220000
DTSTAMP:20260421T153742
CREATED:20230328T151102Z
LAST-MODIFIED:20230328T151102Z
UID:3074-1682794800-1682805600@huckleberrybrewingcompany.com
SUMMARY:Buckskin Jones
DESCRIPTION:
URL:https://huckleberrybrewingcompany.com/event/buckskin-jones/
END:VEVENT
BEGIN:VEVENT
DTSTART;TZID=UTC:20230502T160000
DTEND;TZID=UTC:20230502T200000
DTSTAMP:20260421T153742
CREATED:20230517T152711Z
LAST-MODIFIED:20230517T152711Z
UID:3184-1683043200-1683057600@huckleberrybrewingcompany.com
SUMMARY:$4 Off Growler Fills
DESCRIPTION:
URL:https://huckleberrybrewingcompany.com/event/4-off-growler-fills-20/
END:VEVENT
BEGIN:VEVENT
DTSTART;TZID=UTC:20230503T183000
DTEND;TZID=UTC:20230503T210000
DTSTAMP:20260421T153742
CREATED:20230517T152726Z
LAST-MODIFIED:20230517T152726Z
UID:3186-1683138600-1683147600@huckleberrybrewingcompany.com
SUMMARY:Geeks Who Drink
DESCRIPTION:
URL:https://huckleberrybrewingcompany.com/event/geeks-who-drink-25/
END:VEVENT
BEGIN:VEVENT
DTSTART;TZID=UTC:20230504T190000
DTEND;TZID=UTC:20230504T220000
DTSTAMP:20260421T153742
CREATED:20230517T152743Z
LAST-MODIFIED:20230517T152743Z
UID:3188-1683226800-1683237600@huckleberrybrewingcompany.com
SUMMARY:Open Mic
DESCRIPTION:
URL:https://huckleberrybrewingcompany.com/event/open-mic-2/
END:VEVENT
BEGIN:VEVENT
DTSTART;TZID=UTC:20230505T190000
DTEND;TZID=UTC:20230505T220000
DTSTAMP:20260421T153742
CREATED:20230517T152803Z
LAST-MODIFIED:20230517T152803Z
UID:3190-1683313200-1683324000@huckleberrybrewingcompany.com
SUMMARY:First Friday w/ Fred
DESCRIPTION:
URL:https://huckleberrybrewingcompany.com/event/first-friday-w-fred-4/
END:VEVENT
BEGIN:VEVENT
DTSTART;TZID=UTC:20230506T070000
DTEND;TZID=UTC:20230506T100000
DTSTAMP:20260421T153742
CREATED:20230517T152830Z
LAST-MODIFIED:20230517T152830Z
UID:3192-1683356400-1683367200@huckleberrybrewingcompany.com
SUMMARY:Rock The Huck
DESCRIPTION:
URL:https://huckleberrybrewingcompany.com/event/rock-the-huck/
END:VEVENT
BEGIN:VEVENT
DTSTART;TZID=UTC:20230507T140000
DTEND;TZID=UTC:20230507T190000
DTSTAMP:20260421T153742
CREATED:20230517T152851Z
LAST-MODIFIED:20230517T152851Z
UID:3194-1683468000-1683486000@huckleberrybrewingcompany.com
SUMMARY:Cousins Maine Lobster Food Truck Pop-Up
DESCRIPTION:
URL:https://huckleberrybrewingcompany.com/event/cousins-maine-lobster-food-truck-pop-up/
END:VEVENT
BEGIN:VEVENT
DTSTART;TZID=UTC:20230509T160000
DTEND;TZID=UTC:20230509T200000
DTSTAMP:20260421T153742
CREATED:20230517T152914Z
LAST-MODIFIED:20230517T152914Z
UID:3196-1683648000-1683662400@huckleberrybrewingcompany.com
SUMMARY:$4 Off Growler Fills
DESCRIPTION:
URL:https://huckleberrybrewingcompany.com/event/4-off-growler-fills-21/
END:VEVENT
BEGIN:VEVENT
DTSTART;TZID=UTC:20230511T070000
DTEND;TZID=UTC:20230511T220000
DTSTAMP:20260421T153742
CREATED:20230517T152937Z
LAST-MODIFIED:20230517T152937Z
UID:3198-1683788400-1683842400@huckleberrybrewingcompany.com
SUMMARY:Karaoke
DESCRIPTION:
URL:https://huckleberrybrewingcompany.com/event/karaoke-15/
END:VEVENT
BEGIN:VEVENT
DTSTART;TZID=UTC:20230512T070000
DTEND;TZID=UTC:20230512T220000
DTSTAMP:20260421T153742
CREATED:20230517T152957Z
LAST-MODIFIED:20230517T152957Z
UID:3200-1683874800-1683928800@huckleberrybrewingcompany.com
SUMMARY:Dash Rip Rock
DESCRIPTION:
URL:https://huckleberrybrewingcompany.com/event/dash-rip-rock-2/
END:VEVENT
BEGIN:VEVENT
DTSTART;TZID=UTC:20230513T190000
DTEND;TZID=UTC:20230513T220000
DTSTAMP:20260421T153742
CREATED:20230517T153041Z
LAST-MODIFIED:20230517T153041Z
UID:3202-1684004400-1684015200@huckleberrybrewingcompany.com
SUMMARY:Bear & The Forest Friends
DESCRIPTION:
URL:https://huckleberrybrewingcompany.com/event/bear-the-forest-friends/
END:VEVENT
BEGIN:VEVENT
DTSTART;TZID=UTC:20230516T040000
DTEND;TZID=UTC:20230516T080000
DTSTAMP:20260421T153742
CREATED:20230517T153100Z
LAST-MODIFIED:20230517T153100Z
UID:3204-1684209600-1684224000@huckleberrybrewingcompany.com
SUMMARY:$4 Off Growler Fills
DESCRIPTION:
URL:https://huckleberrybrewingcompany.com/event/4-off-growler-fills-22/
END:VEVENT
BEGIN:VEVENT
DTSTART;TZID=UTC:20230517T183000
DTEND;TZID=UTC:20230517T210000
DTSTAMP:20260421T153742
CREATED:20230517T150542Z
LAST-MODIFIED:20230517T150542Z
UID:3080-1684348200-1684357200@huckleberrybrewingcompany.com
SUMMARY:Geeks Who Drink
DESCRIPTION:
URL:https://huckleberrybrewingcompany.com/event/geeks-who-drink-15/
END:VEVENT
BEGIN:VEVENT
DTSTART;TZID=UTC:20230518T180000
DTEND;TZID=UTC:20230518T210000
DTSTAMP:20260421T153742
CREATED:20230517T150622Z
LAST-MODIFIED:20230517T150622Z
UID:3082-1684432800-1684443600@huckleberrybrewingcompany.com
SUMMARY:Bayou Brush Paint Class
DESCRIPTION:Purchase tickets at https://www.bayoubrusharts.com/book-online
URL:https://huckleberrybrewingcompany.com/event/bayou-brush-paint-class-2/
END:VEVENT
BEGIN:VEVENT
DTSTART;TZID=UTC:20230519T190000
DTEND;TZID=UTC:20230519T220000
DTSTAMP:20260421T153742
CREATED:20230517T150644Z
LAST-MODIFIED:20230517T150644Z
UID:3084-1684522800-1684533600@huckleberrybrewingcompany.com
SUMMARY:Sam Fitzgerald Live
DESCRIPTION:
URL:https://huckleberrybrewingcompany.com/event/sam-fitzgerald-live/
END:VEVENT
BEGIN:VEVENT
DTSTART;TZID=UTC:20230520T133000
DTEND;TZID=UTC:20230520T150000
DTSTAMP:20260421T153742
CREATED:20230517T150723Z
LAST-MODIFIED:20230517T150723Z
UID:3086-1684589400-1684594800@huckleberrybrewingcompany.com
SUMMARY:Morgan Music Institute Summer Show
DESCRIPTION:
URL:https://huckleberrybrewingcompany.com/event/morgan-music-institute-summer-show/
END:VEVENT
BEGIN:VEVENT
DTSTART;TZID=UTC:20230520T190000
DTEND;TZID=UTC:20230520T220000
DTSTAMP:20260421T153742
CREATED:20230517T150745Z
LAST-MODIFIED:20230517T150745Z
UID:3088-1684609200-1684620000@huckleberrybrewingcompany.com
SUMMARY:First Street Hooligans
DESCRIPTION:
URL:https://huckleberrybrewingcompany.com/event/first-street-hooligans/
END:VEVENT
BEGIN:VEVENT
DTSTART;TZID=UTC:20230523T160000
DTEND;TZID=UTC:20230523T200000
DTSTAMP:20260421T153742
CREATED:20230517T150814Z
LAST-MODIFIED:20230517T150814Z
UID:3090-1684857600-1684872000@huckleberrybrewingcompany.com
SUMMARY:$4 Off Growler Fills
DESCRIPTION:
URL:https://huckleberrybrewingcompany.com/event/4-off-growler-fills-12/
END:VEVENT
BEGIN:VEVENT
DTSTART;TZID=UTC:20230524T183000
DTEND;TZID=UTC:20230524T210000
DTSTAMP:20260421T153742
CREATED:20230517T150833Z
LAST-MODIFIED:20230517T150833Z
UID:3092-1684953000-1684962000@huckleberrybrewingcompany.com
SUMMARY:Geeks Who Drink
DESCRIPTION:
URL:https://huckleberrybrewingcompany.com/event/geeks-who-drink-16/
END:VEVENT
BEGIN:VEVENT
DTSTART;TZID=UTC:20230525T190000
DTEND;TZID=UTC:20230525T220000
DTSTAMP:20260421T153742
CREATED:20230517T150904Z
LAST-MODIFIED:20230517T150904Z
UID:3094-1685041200-1685052000@huckleberrybrewingcompany.com
SUMMARY:Karaoke
DESCRIPTION:
URL:https://huckleberrybrewingcompany.com/event/karaoke-10/
END:VEVENT
END:VCALENDAR