BEGIN:VCALENDAR
VERSION:2.0
PRODID:-//Huckleberry Brewing Company - ECPv6.15.20//NONSGML v1.0//EN
CALSCALE:GREGORIAN
METHOD:PUBLISH
X-ORIGINAL-URL:https://huckleberrybrewingcompany.com
X-WR-CALDESC:Events for Huckleberry Brewing Company
REFRESH-INTERVAL;VALUE=DURATION:PT1H
X-Robots-Tag:noindex
X-PUBLISHED-TTL:PT1H
BEGIN:VTIMEZONE
TZID:UTC
BEGIN:STANDARD
TZOFFSETFROM:+0000
TZOFFSETTO:+0000
TZNAME:UTC
DTSTART:20220101T000000
END:STANDARD
END:VTIMEZONE
BEGIN:VEVENT
DTSTART;TZID=UTC:20230304T190000
DTEND;TZID=UTC:20230304T220000
DTSTAMP:20260421T113431
CREATED:20230207T155706Z
LAST-MODIFIED:20230207T155706Z
UID:3014-1677956400-1677967200@huckleberrybrewingcompany.com
SUMMARY:The Maritimes
DESCRIPTION:
URL:https://huckleberrybrewingcompany.com/event/the-maritimes/
END:VEVENT
BEGIN:VEVENT
DTSTART;VALUE=DATE:20230307
DTEND;VALUE=DATE:20230308
DTSTAMP:20260421T113431
CREATED:20230207T154557Z
LAST-MODIFIED:20230207T154557Z
UID:2987-1678147200-1678233599@huckleberrybrewingcompany.com
SUMMARY:$4 Off Growler Fills
DESCRIPTION:
URL:https://huckleberrybrewingcompany.com/event/4-off-growler-fills-5/
END:VEVENT
BEGIN:VEVENT
DTSTART;TZID=UTC:20230308T183000
DTEND;TZID=UTC:20230308T210000
DTSTAMP:20260421T113431
CREATED:20230207T154217Z
LAST-MODIFIED:20230207T154217Z
UID:2979-1678300200-1678309200@huckleberrybrewingcompany.com
SUMMARY:Geeks Who Drink
DESCRIPTION:
URL:https://huckleberrybrewingcompany.com/event/geeks-who-drink-11/
END:VEVENT
BEGIN:VEVENT
DTSTART;TZID=UTC:20230309T190000
DTEND;TZID=UTC:20230309T220000
DTSTAMP:20260421T113431
CREATED:20230207T154955Z
LAST-MODIFIED:20230207T154955Z
UID:2997-1678388400-1678399200@huckleberrybrewingcompany.com
SUMMARY:Karaoke
DESCRIPTION:
URL:https://huckleberrybrewingcompany.com/event/karaoke-7/
END:VEVENT
BEGIN:VEVENT
DTSTART;TZID=UTC:20230310T190000
DTEND;TZID=UTC:20230310T220000
DTSTAMP:20260421T113431
CREATED:20230207T155230Z
LAST-MODIFIED:20230207T155230Z
UID:3005-1678474800-1678485600@huckleberrybrewingcompany.com
SUMMARY:RanSolo
DESCRIPTION:
URL:https://huckleberrybrewingcompany.com/event/ransolo/
END:VEVENT
BEGIN:VEVENT
DTSTART;TZID=UTC:20230311T190000
DTEND;TZID=UTC:20230311T220000
DTSTAMP:20260421T113431
CREATED:20230207T155758Z
LAST-MODIFIED:20230207T155758Z
UID:3016-1678561200-1678572000@huckleberrybrewingcompany.com
SUMMARY:Chuckleberry Comedy Fest
DESCRIPTION:
URL:https://huckleberrybrewingcompany.com/event/chuckleberry-comedy-fest/
END:VEVENT
BEGIN:VEVENT
DTSTART;VALUE=DATE:20230314
DTEND;VALUE=DATE:20230315
DTSTAMP:20260421T113431
CREATED:20230207T154625Z
LAST-MODIFIED:20230207T154625Z
UID:2989-1678752000-1678838399@huckleberrybrewingcompany.com
SUMMARY:$4 Off Growler Fills
DESCRIPTION:
URL:https://huckleberrybrewingcompany.com/event/4-off-growler-fills-6/
END:VEVENT
BEGIN:VEVENT
DTSTART;TZID=UTC:20230315T183000
DTEND;TZID=UTC:20230315T210000
DTSTAMP:20260421T113431
CREATED:20230207T154255Z
LAST-MODIFIED:20230207T154255Z
UID:2981-1678905000-1678914000@huckleberrybrewingcompany.com
SUMMARY:Geeks Who Drink
DESCRIPTION:
URL:https://huckleberrybrewingcompany.com/event/geeks-who-drink-12/
END:VEVENT
BEGIN:VEVENT
DTSTART;TZID=UTC:20230316T180000
DTEND;TZID=UTC:20230316T210000
DTSTAMP:20260421T113431
CREATED:20230207T155054Z
LAST-MODIFIED:20230207T155054Z
UID:2999-1678989600-1679000400@huckleberrybrewingcompany.com
SUMMARY:Paint Class w/ Bayou Brush
DESCRIPTION:
URL:https://huckleberrybrewingcompany.com/event/paint-class-w-bayou-brush-2/
END:VEVENT
BEGIN:VEVENT
DTSTART;TZID=UTC:20230317T190000
DTEND;TZID=UTC:20230317T220000
DTSTAMP:20260421T113431
CREATED:20230207T155309Z
LAST-MODIFIED:20230207T155309Z
UID:3007-1679079600-1679090400@huckleberrybrewingcompany.com
SUMMARY:Sam Fitzgeralds
DESCRIPTION:
URL:https://huckleberrybrewingcompany.com/event/sam-fitzgeralds/
END:VEVENT
BEGIN:VEVENT
DTSTART;TZID=UTC:20230318T190000
DTEND;TZID=UTC:20230318T220000
DTSTAMP:20260421T113431
CREATED:20230207T155823Z
LAST-MODIFIED:20230207T155823Z
UID:3013-1679166000-1679176800@huckleberrybrewingcompany.com
SUMMARY:Cane River Soul
DESCRIPTION:
URL:https://huckleberrybrewingcompany.com/event/cane-river-soul-2/
END:VEVENT
BEGIN:VEVENT
DTSTART;VALUE=DATE:20230321
DTEND;VALUE=DATE:20230322
DTSTAMP:20260421T113431
CREATED:20230207T154722Z
LAST-MODIFIED:20230207T154722Z
UID:2991-1679356800-1679443199@huckleberrybrewingcompany.com
SUMMARY:$4 Off Growler Fills
DESCRIPTION:
URL:https://huckleberrybrewingcompany.com/event/4-off-growler-fills-7/
END:VEVENT
BEGIN:VEVENT
DTSTART;TZID=UTC:20230322T183000
DTEND;TZID=UTC:20230322T210000
DTSTAMP:20260421T113431
CREATED:20230207T154332Z
LAST-MODIFIED:20230207T154332Z
UID:2983-1679509800-1679518800@huckleberrybrewingcompany.com
SUMMARY:Geeks Who Drink
DESCRIPTION:
URL:https://huckleberrybrewingcompany.com/event/geeks-who-drink-13/
END:VEVENT
BEGIN:VEVENT
DTSTART;TZID=UTC:20230323T190000
DTEND;TZID=UTC:20230323T220000
DTSTAMP:20260421T113431
CREATED:20230207T155124Z
LAST-MODIFIED:20230207T160031Z
UID:3001-1679598000-1679608800@huckleberrybrewingcompany.com
SUMMARY:Karaoke
DESCRIPTION:
URL:https://huckleberrybrewingcompany.com/event/karaoke-8/
END:VEVENT
BEGIN:VEVENT
DTSTART;TZID=UTC:20230324T190000
DTEND;TZID=UTC:20230324T220000
DTSTAMP:20260421T113431
CREATED:20230207T155419Z
LAST-MODIFIED:20230207T155419Z
UID:3009-1679684400-1679695200@huckleberrybrewingcompany.com
SUMMARY:Eric Leger
DESCRIPTION:
URL:https://huckleberrybrewingcompany.com/event/eric-leger/
END:VEVENT
BEGIN:VEVENT
DTSTART;TZID=UTC:20230325T190000
DTEND;TZID=UTC:20230325T220000
DTSTAMP:20260421T113431
CREATED:20230207T155913Z
LAST-MODIFIED:20230207T155913Z
UID:3019-1679770800-1679781600@huckleberrybrewingcompany.com
SUMMARY:Makada Reunion Show
DESCRIPTION:
URL:https://huckleberrybrewingcompany.com/event/makada-reunion-show/
END:VEVENT
BEGIN:VEVENT
DTSTART;VALUE=DATE:20230328
DTEND;VALUE=DATE:20230329
DTSTAMP:20260421T113431
CREATED:20230207T154824Z
LAST-MODIFIED:20230207T154824Z
UID:2993-1679961600-1680047999@huckleberrybrewingcompany.com
SUMMARY:$4 Off Growler Fills
DESCRIPTION:
URL:https://huckleberrybrewingcompany.com/event/4-off-growler-fills-8/
END:VEVENT
BEGIN:VEVENT
DTSTART;TZID=UTC:20230329T183000
DTEND;TZID=UTC:20230329T210000
DTSTAMP:20260421T113431
CREATED:20230207T154420Z
LAST-MODIFIED:20230207T154420Z
UID:2985-1680114600-1680123600@huckleberrybrewingcompany.com
SUMMARY:Geeks Who Drink
DESCRIPTION:
URL:https://huckleberrybrewingcompany.com/event/geeks-who-drink-14/
END:VEVENT
BEGIN:VEVENT
DTSTART;TZID=UTC:20230330T180000
DTEND;TZID=UTC:20230330T210000
DTSTAMP:20260421T113431
CREATED:20230207T160126Z
LAST-MODIFIED:20230207T160126Z
UID:3022-1680199200-1680210000@huckleberrybrewingcompany.com
SUMMARY:Huck's Bingo Night
DESCRIPTION:
URL:https://huckleberrybrewingcompany.com/event/hucks-bingo-night-2/
END:VEVENT
BEGIN:VEVENT
DTSTART;TZID=UTC:20230331T190000
DTEND;TZID=UTC:20230331T220000
DTSTAMP:20260421T113431
CREATED:20230207T155605Z
LAST-MODIFIED:20230328T145726Z
UID:3011-1680289200-1680300000@huckleberrybrewingcompany.com
SUMMARY:ZooBoil
DESCRIPTION:Come out for our annual FOTAZ fundraising crawfish boil! We’ll be partnering with Hotheads Crawfish to bring some tasty plates with proceeds benefiting FOTAZ!\nThere will also be a silent auction\, a beer release\, & live music from Brokedown Streetcar! \nTickets and pricing will be available soon\, so stay tuned! \nMark your calendars and come join us for a great cause. Cheers! \nPurchase tickets at huckleberrybrewingco.square.site
URL:https://huckleberrybrewingcompany.com/event/zooboil/
END:VEVENT
BEGIN:VEVENT
DTSTART;TZID=UTC:20230401T190000
DTEND;TZID=UTC:20230401T220000
DTSTAMP:20260421T113431
CREATED:20230207T160227Z
LAST-MODIFIED:20230207T160227Z
UID:3024-1680375600-1680386400@huckleberrybrewingcompany.com
SUMMARY:Wicked Waters
DESCRIPTION:
URL:https://huckleberrybrewingcompany.com/event/wicked-waters-3/
END:VEVENT
BEGIN:VEVENT
DTSTART;VALUE=DATE:20230404
DTEND;VALUE=DATE:20230405
DTSTAMP:20260421T113431
CREATED:20230328T145852Z
LAST-MODIFIED:20230328T145852Z
UID:3036-1680566400-1680652799@huckleberrybrewingcompany.com
SUMMARY:$4 Growler Fills
DESCRIPTION:
URL:https://huckleberrybrewingcompany.com/event/4-growler-fills/
END:VEVENT
BEGIN:VEVENT
DTSTART;TZID=UTC:20230405T183000
DTEND;TZID=UTC:20230405T210000
DTSTAMP:20260421T113431
CREATED:20230328T150015Z
LAST-MODIFIED:20230328T150015Z
UID:3044-1680719400-1680728400@huckleberrybrewingcompany.com
SUMMARY:Geeks Who Drink Trivia @ 6:30
DESCRIPTION:
URL:https://huckleberrybrewingcompany.com/event/geeks-who-drink-trivia-630/
END:VEVENT
BEGIN:VEVENT
DTSTART;TZID=UTC:20230406T190000
DTEND;TZID=UTC:20230406T220000
DTSTAMP:20260421T113431
CREATED:20230328T150233Z
LAST-MODIFIED:20230328T150233Z
UID:3052-1680807600-1680818400@huckleberrybrewingcompany.com
SUMMARY:Open Mic Night
DESCRIPTION:https://www.facebook.com/events/242848771439014
URL:https://huckleberrybrewingcompany.com/event/open-mic-night-2/
END:VEVENT
BEGIN:VEVENT
DTSTART;TZID=UTC:20230407T190000
DTEND;TZID=UTC:20230407T220000
DTSTAMP:20260421T113431
CREATED:20230328T145817Z
LAST-MODIFIED:20230328T145817Z
UID:3034-1680894000-1680904800@huckleberrybrewingcompany.com
SUMMARY:Fred Jones Live
DESCRIPTION:
URL:https://huckleberrybrewingcompany.com/event/fred-jones-live-3/
END:VEVENT
BEGIN:VEVENT
DTSTART;TZID=UTC:20230408T190000
DTEND;TZID=UTC:20230408T220000
DTSTAMP:20260421T113431
CREATED:20230328T150552Z
LAST-MODIFIED:20230328T150552Z
UID:3060-1680980400-1680991200@huckleberrybrewingcompany.com
SUMMARY:The Wild Thornberrys
DESCRIPTION:
URL:https://huckleberrybrewingcompany.com/event/the-wild-thornberrys/
END:VEVENT
BEGIN:VEVENT
DTSTART;VALUE=DATE:20230411
DTEND;VALUE=DATE:20230412
DTSTAMP:20260421T113431
CREATED:20230328T145908Z
LAST-MODIFIED:20230328T145908Z
UID:3038-1681171200-1681257599@huckleberrybrewingcompany.com
SUMMARY:$4 Off Growler Fills
DESCRIPTION:
URL:https://huckleberrybrewingcompany.com/event/4-off-growler-fills-9/
END:VEVENT
BEGIN:VEVENT
DTSTART;TZID=UTC:20230412T183000
DTEND;TZID=UTC:20230412T210000
DTSTAMP:20260421T113431
CREATED:20230328T150035Z
LAST-MODIFIED:20230328T150035Z
UID:3046-1681324200-1681333200@huckleberrybrewingcompany.com
SUMMARY:Geeks Who Drink Trivia @ 6:30
DESCRIPTION:
URL:https://huckleberrybrewingcompany.com/event/geeks-who-drink-trivia-630-2/
END:VEVENT
BEGIN:VEVENT
DTSTART;TZID=UTC:20230414T190000
DTEND;TZID=UTC:20230414T220000
DTSTAMP:20260421T113431
CREATED:20230328T150612Z
LAST-MODIFIED:20230328T150612Z
UID:3062-1681498800-1681509600@huckleberrybrewingcompany.com
SUMMARY:CJ Ward
DESCRIPTION:
URL:https://huckleberrybrewingcompany.com/event/cj-ward/
END:VEVENT
BEGIN:VEVENT
DTSTART;TZID=UTC:20230415T190000
DTEND;TZID=UTC:20230415T220000
DTSTAMP:20260421T113431
CREATED:20230328T150636Z
LAST-MODIFIED:20230328T150636Z
UID:3064-1681585200-1681596000@huckleberrybrewingcompany.com
SUMMARY:Friendly Jeans
DESCRIPTION:
URL:https://huckleberrybrewingcompany.com/event/friendly-jeans-2/
END:VEVENT
END:VCALENDAR