BEGIN:VCALENDAR
VERSION:2.0
PRODID:-//Huckleberry Brewing Company - ECPv6.15.20//NONSGML v1.0//EN
CALSCALE:GREGORIAN
METHOD:PUBLISH
X-WR-CALNAME:Huckleberry Brewing Company
X-ORIGINAL-URL:https://huckleberrybrewingcompany.com
X-WR-CALDESC:Events for Huckleberry Brewing Company
REFRESH-INTERVAL;VALUE=DURATION:PT1H
X-Robots-Tag:noindex
X-PUBLISHED-TTL:PT1H
BEGIN:VTIMEZONE
TZID:UTC
BEGIN:STANDARD
TZOFFSETFROM:+0000
TZOFFSETTO:+0000
TZNAME:UTC
DTSTART:20210101T000000
END:STANDARD
END:VTIMEZONE
BEGIN:VEVENT
DTSTART;TZID=UTC:20221112T190000
DTEND;TZID=UTC:20221112T220000
DTSTAMP:20260421T140230
CREATED:20221025T151530Z
LAST-MODIFIED:20221025T151530Z
UID:2844-1668279600-1668290400@huckleberrybrewingcompany.com
SUMMARY:Sam Fitzgerald
DESCRIPTION:
URL:https://huckleberrybrewingcompany.com/event/sam-fitzgerald/
END:VEVENT
BEGIN:VEVENT
DTSTART;TZID=UTC:20221111T190000
DTEND;TZID=UTC:20221111T220000
DTSTAMP:20260421T140230
CREATED:20221025T151459Z
LAST-MODIFIED:20221025T151459Z
UID:2842-1668193200-1668204000@huckleberrybrewingcompany.com
SUMMARY:Dash Rip Rock
DESCRIPTION:
URL:https://huckleberrybrewingcompany.com/event/dash-rip-rock/
END:VEVENT
BEGIN:VEVENT
DTSTART;TZID=UTC:20221110T190000
DTEND;TZID=UTC:20221110T220000
DTSTAMP:20260421T140230
CREATED:20221025T150417Z
LAST-MODIFIED:20221025T150417Z
UID:2834-1668106800-1668117600@huckleberrybrewingcompany.com
SUMMARY:Karaoke
DESCRIPTION:
URL:https://huckleberrybrewingcompany.com/event/karaoke-2/
END:VEVENT
BEGIN:VEVENT
DTSTART;TZID=UTC:20221109T183000
DTEND;TZID=UTC:20221109T210000
DTSTAMP:20260421T140230
CREATED:20221025T145316Z
LAST-MODIFIED:20221025T145316Z
UID:2824-1668018600-1668027600@huckleberrybrewingcompany.com
SUMMARY:Geeks Who Drink
DESCRIPTION:
URL:https://huckleberrybrewingcompany.com/event/geeks-who-drink-3/
END:VEVENT
BEGIN:VEVENT
DTSTART;TZID=UTC:20221108T160000
DTEND;TZID=UTC:20221108T200000
DTSTAMP:20260421T140230
CREATED:20221025T152259Z
LAST-MODIFIED:20221025T152259Z
UID:2858-1667923200-1667937600@huckleberrybrewingcompany.com
SUMMARY:$4 Off 64oz Fills
DESCRIPTION:
URL:https://huckleberrybrewingcompany.com/event/4-off-64oz-fills-3/
END:VEVENT
BEGIN:VEVENT
DTSTART;TZID=UTC:20221107T070000
DTEND;TZID=UTC:20221107T220000
DTSTAMP:20260421T140230
CREATED:20221025T152909Z
LAST-MODIFIED:20221025T152909Z
UID:2868-1667804400-1667858400@huckleberrybrewingcompany.com
SUMMARY:Saints v. Ravens
DESCRIPTION:
URL:https://huckleberrybrewingcompany.com/event/saints-v-ravens/
END:VEVENT
BEGIN:VEVENT
DTSTART;TZID=UTC:20221105T190000
DTEND;TZID=UTC:20221105T220000
DTSTAMP:20260421T140230
CREATED:20221025T151433Z
LAST-MODIFIED:20221025T151433Z
UID:2840-1667674800-1667685600@huckleberrybrewingcompany.com
SUMMARY:Jeremy LeWayne
DESCRIPTION:
URL:https://huckleberrybrewingcompany.com/event/jeremy-lewayne/
END:VEVENT
BEGIN:VEVENT
DTSTART;TZID=UTC:20221104T190000
DTEND;TZID=UTC:20221104T220000
DTSTAMP:20260421T140230
CREATED:20221025T151405Z
LAST-MODIFIED:20221025T151405Z
UID:2838-1667588400-1667599200@huckleberrybrewingcompany.com
SUMMARY:Fred Jones Live
DESCRIPTION:
URL:https://huckleberrybrewingcompany.com/event/fred-jones-live/
END:VEVENT
BEGIN:VEVENT
DTSTART;TZID=UTC:20221103T180000
DTEND;TZID=UTC:20221103T210000
DTSTAMP:20260421T140230
CREATED:20221025T150308Z
LAST-MODIFIED:20221025T150308Z
UID:2832-1667498400-1667509200@huckleberrybrewingcompany.com
SUMMARY:Ping Pong Tournament
DESCRIPTION:
URL:https://huckleberrybrewingcompany.com/event/ping-pong-tournament/
END:VEVENT
BEGIN:VEVENT
DTSTART;TZID=UTC:20221102T183000
DTEND;TZID=UTC:20221102T210000
DTSTAMP:20260421T140230
CREATED:20221025T145219Z
LAST-MODIFIED:20221025T145219Z
UID:2822-1667413800-1667422800@huckleberrybrewingcompany.com
SUMMARY:Geeks Who Drink
DESCRIPTION:
URL:https://huckleberrybrewingcompany.com/event/geeks-who-drink-2/
END:VEVENT
BEGIN:VEVENT
DTSTART;TZID=UTC:20221101T160000
DTEND;TZID=UTC:20221101T200000
DTSTAMP:20260421T140230
CREATED:20221025T152228Z
LAST-MODIFIED:20221025T152228Z
UID:2856-1667318400-1667332800@huckleberrybrewingcompany.com
SUMMARY:$4 Off 64oz Fills
DESCRIPTION:
URL:https://huckleberrybrewingcompany.com/event/4-off-64oz-fills-2/
END:VEVENT
BEGIN:VEVENT
DTSTART;TZID=UTC:20221030T120000
DTEND;TZID=UTC:20221030T150000
DTSTAMP:20260421T140230
CREATED:20221025T152820Z
LAST-MODIFIED:20221025T152820Z
UID:2866-1667131200-1667142000@huckleberrybrewingcompany.com
SUMMARY:Saints v. Raiders
DESCRIPTION:
URL:https://huckleberrybrewingcompany.com/event/saints-v-raiders/
END:VEVENT
BEGIN:VEVENT
DTSTART;TZID=UTC:20221026T183000
DTEND;TZID=UTC:20221026T210000
DTSTAMP:20260421T140230
CREATED:20221025T145149Z
LAST-MODIFIED:20221025T145149Z
UID:2820-1666809000-1666818000@huckleberrybrewingcompany.com
SUMMARY:Geeks Who Drink
DESCRIPTION:
URL:https://huckleberrybrewingcompany.com/event/geeks-who-drink/
END:VEVENT
BEGIN:VEVENT
DTSTART;TZID=UTC:20221025T160000
DTEND;TZID=UTC:20221025T200000
DTSTAMP:20260421T140230
CREATED:20221025T152054Z
LAST-MODIFIED:20221025T152054Z
UID:2854-1666713600-1666728000@huckleberrybrewingcompany.com
SUMMARY:$4 Off 64oz Fills
DESCRIPTION:
URL:https://huckleberrybrewingcompany.com/event/4-off-64oz-fills/
END:VEVENT
BEGIN:VEVENT
DTSTART;TZID=UTC:20221001T080000
DTEND;TZID=UTC:20221001T170000
DTSTAMP:20260421T140230
CREATED:20221001T162610Z
LAST-MODIFIED:20221001T162610Z
UID:2815-1664611200-1664643600@huckleberrybrewingcompany.com
SUMMARY:Close at 5pm for private event
DESCRIPTION:
URL:https://huckleberrybrewingcompany.com/event/close-at-5pm-for-private-event/
END:VEVENT
BEGIN:VEVENT
DTSTART;TZID=UTC:20220930T193000
DTEND;TZID=UTC:20220930T220000
DTSTAMP:20260421T140230
CREATED:20220908T171858Z
LAST-MODIFIED:20220908T171858Z
UID:2802-1664566200-1664575200@huckleberrybrewingcompany.com
SUMMARY:Dauzat St. Marie
DESCRIPTION:
URL:https://huckleberrybrewingcompany.com/event/dauzat-st-marie/
END:VEVENT
BEGIN:VEVENT
DTSTART;TZID=UTC:20220929T180000
DTEND;TZID=UTC:20220929T210000
DTSTAMP:20260421T140230
CREATED:20220908T172810Z
LAST-MODIFIED:20220908T172810Z
UID:2810-1664474400-1664485200@huckleberrybrewingcompany.com
SUMMARY:Bayou Brush Paint Class
DESCRIPTION:Tickets available at https://www.bayoubrusharts.com/service-page/huckleberry-brewery-september?referral=service_list_widget
URL:https://huckleberrybrewingcompany.com/event/bayou-brush-paint-class/
END:VEVENT
BEGIN:VEVENT
DTSTART;TZID=UTC:20220928T183000
DTEND;TZID=UTC:20220928T210000
DTSTAMP:20260421T140230
CREATED:20220908T172152Z
LAST-MODIFIED:20220908T172152Z
UID:2808-1664389800-1664398800@huckleberrybrewingcompany.com
SUMMARY:Geeks Who Drink Trivia
DESCRIPTION:
URL:https://huckleberrybrewingcompany.com/event/geeks-who-drink-trivia-2/
END:VEVENT
BEGIN:VEVENT
DTSTART;TZID=UTC:20220923T193000
DTEND;TZID=UTC:20220923T220000
DTSTAMP:20260421T140230
CREATED:20220908T171757Z
LAST-MODIFIED:20220908T171757Z
UID:2800-1663961400-1663970400@huckleberrybrewingcompany.com
SUMMARY:Deaf Jam
DESCRIPTION:
URL:https://huckleberrybrewingcompany.com/event/deaf-jam/
END:VEVENT
BEGIN:VEVENT
DTSTART;TZID=UTC:20220922T180000
DTEND;TZID=UTC:20220922T210000
DTSTAMP:20260421T140230
CREATED:20220908T171954Z
LAST-MODIFIED:20220908T171954Z
UID:2806-1663869600-1663880400@huckleberrybrewingcompany.com
SUMMARY:Bingo Night
DESCRIPTION:
URL:https://huckleberrybrewingcompany.com/event/bingo-night/
END:VEVENT
BEGIN:VEVENT
DTSTART;VALUE=DATE:20220921
DTEND;VALUE=DATE:20220922
DTSTAMP:20260421T140230
CREATED:20220908T171924Z
LAST-MODIFIED:20220908T171924Z
UID:2804-1663718400-1663804799@huckleberrybrewingcompany.com
SUMMARY:Closed for Private Event
DESCRIPTION:
URL:https://huckleberrybrewingcompany.com/event/closed-for-private-event/
END:VEVENT
BEGIN:VEVENT
DTSTART;TZID=UTC:20220918T113000
DTEND;TZID=UTC:20220918T160000
DTSTAMP:20260421T140230
CREATED:20220908T171715Z
LAST-MODIFIED:20220908T171715Z
UID:2798-1663500600-1663516800@huckleberrybrewingcompany.com
SUMMARY:Open for Saints Game
DESCRIPTION:
URL:https://huckleberrybrewingcompany.com/event/open-for-saints-game-2/
END:VEVENT
BEGIN:VEVENT
DTSTART;TZID=UTC:20220917T193000
DTEND;TZID=UTC:20220917T220000
DTSTAMP:20260421T140230
CREATED:20220908T171526Z
LAST-MODIFIED:20220908T171526Z
UID:2796-1663443000-1663452000@huckleberrybrewingcompany.com
SUMMARY:Deep Water Rehab
DESCRIPTION:
URL:https://huckleberrybrewingcompany.com/event/deep-water-rehab/
END:VEVENT
BEGIN:VEVENT
DTSTART;TZID=UTC:20220916T193000
DTEND;TZID=UTC:20220916T220000
DTSTAMP:20260421T140230
CREATED:20220908T171458Z
LAST-MODIFIED:20220908T171458Z
UID:2794-1663356600-1663365600@huckleberrybrewingcompany.com
SUMMARY:Threat Level Midnight
DESCRIPTION:
URL:https://huckleberrybrewingcompany.com/event/threat-level-midnight/
END:VEVENT
BEGIN:VEVENT
DTSTART;TZID=UTC:20220915T190000
DTEND;TZID=UTC:20220915T220000
DTSTAMP:20260421T140230
CREATED:20220908T171425Z
LAST-MODIFIED:20220908T171425Z
UID:2792-1663268400-1663279200@huckleberrybrewingcompany.com
SUMMARY:Beer Pong Tournament
DESCRIPTION:
URL:https://huckleberrybrewingcompany.com/event/beer-pong-tournament/
END:VEVENT
BEGIN:VEVENT
DTSTART;TZID=UTC:20220914T183000
DTEND;TZID=UTC:20220914T210000
DTSTAMP:20260421T140230
CREATED:20220908T171315Z
LAST-MODIFIED:20220908T171315Z
UID:2788-1663180200-1663189200@huckleberrybrewingcompany.com
SUMMARY:Geeks Who Drink Trivia
DESCRIPTION:
URL:https://huckleberrybrewingcompany.com/event/geeks-who-drink-trivia/
END:VEVENT
BEGIN:VEVENT
DTSTART;TZID=UTC:20220911T113000
DTEND;TZID=UTC:20220911T160000
DTSTAMP:20260421T140230
CREATED:20220908T171341Z
LAST-MODIFIED:20220908T171341Z
UID:2790-1662895800-1662912000@huckleberrybrewingcompany.com
SUMMARY:Open for Saints Game
DESCRIPTION:
URL:https://huckleberrybrewingcompany.com/event/open-for-saints-game/
END:VEVENT
BEGIN:VEVENT
DTSTART;TZID=UTC:20220910T193000
DTEND;TZID=UTC:20220910T220000
DTSTAMP:20260421T140230
CREATED:20220908T171245Z
LAST-MODIFIED:20220908T171245Z
UID:2786-1662838200-1662847200@huckleberrybrewingcompany.com
SUMMARY:Cane River Soul
DESCRIPTION:
URL:https://huckleberrybrewingcompany.com/event/cane-river-soul/
END:VEVENT
BEGIN:VEVENT
DTSTART;TZID=UTC:20220909T200000
DTEND;TZID=UTC:20220909T220000
DTSTAMP:20260421T140230
CREATED:20220908T171219Z
LAST-MODIFIED:20220908T171219Z
UID:2784-1662753600-1662760800@huckleberrybrewingcompany.com
SUMMARY:Zachary McLain Live
DESCRIPTION:
URL:https://huckleberrybrewingcompany.com/event/zachary-mclain-live/
END:VEVENT
BEGIN:VEVENT
DTSTART;TZID=UTC:20220908T190000
DTEND;TZID=UTC:20220908T220000
DTSTAMP:20260421T140230
CREATED:20220908T171152Z
LAST-MODIFIED:20220908T171152Z
UID:2782-1662663600-1662674400@huckleberrybrewingcompany.com
SUMMARY:Karaoke
DESCRIPTION:
URL:https://huckleberrybrewingcompany.com/event/karaoke/
END:VEVENT
END:VCALENDAR