BEGIN:VCALENDAR
VERSION:2.0
PRODID:-//Huckleberry Brewing Company - ECPv6.15.20//NONSGML v1.0//EN
CALSCALE:GREGORIAN
METHOD:PUBLISH
X-WR-CALNAME:Huckleberry Brewing Company
X-ORIGINAL-URL:https://huckleberrybrewingcompany.com
X-WR-CALDESC:Events for Huckleberry Brewing Company
REFRESH-INTERVAL;VALUE=DURATION:PT1H
X-Robots-Tag:noindex
X-PUBLISHED-TTL:PT1H
BEGIN:VTIMEZONE
TZID:UTC
BEGIN:STANDARD
TZOFFSETFROM:+0000
TZOFFSETTO:+0000
TZNAME:UTC
DTSTART:20210101T000000
END:STANDARD
END:VTIMEZONE
BEGIN:VEVENT
DTSTART;TZID=UTC:20221205T160000
DTEND;TZID=UTC:20221205T220000
DTSTAMP:20260421T111415
CREATED:20221201T173501Z
LAST-MODIFIED:20221201T173501Z
UID:2892-1670256000-1670277600@huckleberrybrewingcompany.com
SUMMARY:Saints on Monday Night Football
DESCRIPTION:Taproom opens at 4 this day for the game at 7!
URL:https://huckleberrybrewingcompany.com/event/saints-on-monday-night-football/
END:VEVENT
BEGIN:VEVENT
DTSTART;TZID=UTC:20221203T140000
DTEND;TZID=UTC:20221203T220000
DTSTAMP:20260421T111415
CREATED:20221201T173412Z
LAST-MODIFIED:20221201T173412Z
UID:2890-1670076000-1670104800@huckleberrybrewingcompany.com
SUMMARY:Rockin' the Socks off Cenla
DESCRIPTION:https://www.facebook.com/events/1110223329649873 \nEVENT PAGE INFO:!!!\n(for any further needed information\, please message the KYCEVENTS page.)\n++++++++++++++++\n‘ ROCK THE SOCKS OFF OF CENLA 2 ‘ 2022\nKnow Your Crowd Events and Huckleberry Brewery are teaming up with the C.L.H.C\n(Central Louisiana Homeless Coalition) once again for this event. We can’t thank them enough for helping us with this event.\nThis awesome event will be on\n( SATURDAY\, DECEMBER 3RD\, 2022 )\n* ENTRY FEE O N L Y $5 per person *\n& Also\, PLEASE DONATE SOCKS.🙏\n* THIS EVENT IS ALL AGES [MUST BE 21&UP TO DRINK] AND WILL BE FAMILY SUITABLE ENVIRONMENT.. So bring everyone in the house – and Next Door. *\n* DOORS @ 2:00pm.\nBands\, Acoustic acts & Comedians that will be performing::\n-PERPETUAL DECEPTION\n-NICK DUCOTE\n-BEAR & THE FOREST FRIENDS (LakeCharles)\n-CJ WARD\n-ABSENCE OF US\n-BRETT WALTERMYER\n-ROBIE MCVEA (w/special guest)\n-MARK BRISTER \nThe main objective of RtsoC2 is to help the homeless of cenla prepare for the winter that’s approaching.\nWe are doing this by doing what we love to do\, play music and entertain people.\nAnd by doing this\, we not only benefit the homeless of Central Louisiana\, but we’ve benefited everyone.\nIt’s a day and a chance for everyone to come together and have a great day at a wonderful establishment with nothing but friendly folks around and good times to be had.\nWe ask and encourage people to bring a pack (OR MULTIPLE) of new/unopened socks to donate.\n[ IF YOU FEEL LIKE YOU MAY NOT BE ABLE TO MAKE IT TO THE EVENT IN PERSON..\nPLEASE KNOW THAT YOU CAN DROP OFF ANY SOCK DONATIONS TO : \nHUCKLEBERRY BREWERY\n4724 Sterkx Rd\,\nAlexandria\, LA 71301\nCENTRAL LOUISIANA MEDICAL PSYCHOLOGY CLINIC\,\n217 Ansley Blvd\,\nAlexandria\, LA 71303\nEWING POOL & SPA\,\n1020 MacArthur Dr\,\nAlexandria\, LA 71303 \nAlso we will have a giant pot of homemade Jambalaya for sale\,\nALL PROCEEDS GO TO C.L.H.C.\nWe are also having multiple Raffles throughout the day.\nRaffle tickets will be\n$1 each OR 6 for $5\n[ So many amazing items up for grabs! ]ALL PROCEEDS GO TO C.L.H.C.\n*** I\,(Way Dubroc) would like to personally send out a huge thank you and show of appreciation to @Huckleberry Brewery\nFor allowing us to have this great event at your awesome establishment.
URL:https://huckleberrybrewingcompany.com/event/rockin-the-socks-off-cenla/
END:VEVENT
BEGIN:VEVENT
DTSTART;TZID=UTC:20221202T190000
DTEND;TZID=UTC:20221202T220000
DTSTAMP:20260421T111415
CREATED:20221201T173247Z
LAST-MODIFIED:20221201T173247Z
UID:2888-1670007600-1670018400@huckleberrybrewingcompany.com
SUMMARY:Fred Jones Live
DESCRIPTION:
URL:https://huckleberrybrewingcompany.com/event/fred-jones-live-2/
END:VEVENT
BEGIN:VEVENT
DTSTART;TZID=UTC:20221201T180000
DTEND;TZID=UTC:20221201T210000
DTSTAMP:20260421T111415
CREATED:20221201T173211Z
LAST-MODIFIED:20221201T173211Z
UID:2886-1669917600-1669928400@huckleberrybrewingcompany.com
SUMMARY:Huck's Bingo Night
DESCRIPTION:
URL:https://huckleberrybrewingcompany.com/event/hucks-bingo-night/
END:VEVENT
BEGIN:VEVENT
DTSTART;TZID=UTC:20221130T183000
DTEND;TZID=UTC:20221130T210000
DTSTAMP:20260421T111415
CREATED:20221025T145514Z
LAST-MODIFIED:20221025T145514Z
UID:2830-1669833000-1669842000@huckleberrybrewingcompany.com
SUMMARY:Geeks Who Drink
DESCRIPTION:
URL:https://huckleberrybrewingcompany.com/event/geeks-who-drink-6/
END:VEVENT
BEGIN:VEVENT
DTSTART;TZID=UTC:20221129T160000
DTEND;TZID=UTC:20221129T200000
DTSTAMP:20260421T111415
CREATED:20221025T152726Z
LAST-MODIFIED:20221025T152726Z
UID:2864-1669737600-1669752000@huckleberrybrewingcompany.com
SUMMARY:$4 Off 64oz Fills
DESCRIPTION:
URL:https://huckleberrybrewingcompany.com/event/4-off-64oz-fills-6/
END:VEVENT
BEGIN:VEVENT
DTSTART;TZID=UTC:20221127T153000
DTEND;TZID=UTC:20221127T190000
DTSTAMP:20260421T111415
CREATED:20221025T153446Z
LAST-MODIFIED:20221025T153446Z
UID:2874-1669563000-1669575600@huckleberrybrewingcompany.com
SUMMARY:Saints v. 49ers
DESCRIPTION:
URL:https://huckleberrybrewingcompany.com/event/saints-v-49ers/
END:VEVENT
BEGIN:VEVENT
DTSTART;VALUE=DATE:20221126
DTEND;VALUE=DATE:20221127
DTSTAMP:20260421T111415
CREATED:20221027T150329Z
LAST-MODIFIED:20221027T150329Z
UID:2876-1669420800-1669507199@huckleberrybrewingcompany.com
SUMMARY:An Evening of Magic w/ Chadwick Bronson
DESCRIPTION:For the first time ever\, we will be hosting a family friendly magic show here at the brewery! Seats are limited and tickets will go fast\, so be sure to follow the link below and secure your spot today! \nThere will be a show at 4pm and another at 7pm\, and tickets for adults are $10 and children are $5. \nExperience the illusionary art of magic with the Artist of the Impossible: Bronson Chadwick. Bronson has been featured on networks such as ABC and CBS and has been entertaining and delighting with magic for over 20 years. \nhttps://www.bronsonchadwick.com/ \nhttps://huckleberrybrewingco.square.site/
URL:https://huckleberrybrewingcompany.com/event/an-evening-of-magic-w-chadwick-bronson/
END:VEVENT
BEGIN:VEVENT
DTSTART;TZID=UTC:20221125T190000
DTEND;TZID=UTC:20221125T220000
DTSTAMP:20260421T111415
CREATED:20221025T151812Z
LAST-MODIFIED:20221025T151812Z
UID:2850-1669402800-1669413600@huckleberrybrewingcompany.com
SUMMARY:Duane Bartels Band
DESCRIPTION:
URL:https://huckleberrybrewingcompany.com/event/duane-bartels-band/
END:VEVENT
BEGIN:VEVENT
DTSTART;VALUE=DATE:20221124
DTEND;VALUE=DATE:20221125
DTSTAMP:20260421T111415
CREATED:20221025T151951Z
LAST-MODIFIED:20221025T151951Z
UID:2852-1669248000-1669334399@huckleberrybrewingcompany.com
SUMMARY:Closed for Thanksgiving
DESCRIPTION:
URL:https://huckleberrybrewingcompany.com/event/closed-for-thanksgiving/
END:VEVENT
BEGIN:VEVENT
DTSTART;TZID=UTC:20221123T190000
DTEND;TZID=UTC:20221123T220000
DTSTAMP:20260421T111415
CREATED:20221028T165914Z
LAST-MODIFIED:20221028T165914Z
UID:2882-1669230000-1669240800@huckleberrybrewingcompany.com
SUMMARY:Sounds of Change
DESCRIPTION:
URL:https://huckleberrybrewingcompany.com/event/sounds-of-change/
END:VEVENT
BEGIN:VEVENT
DTSTART;TZID=UTC:20221123T183000
DTEND;TZID=UTC:20221123T210000
DTSTAMP:20260421T111415
CREATED:20221025T145445Z
LAST-MODIFIED:20221025T145445Z
UID:2828-1669228200-1669237200@huckleberrybrewingcompany.com
SUMMARY:Geeks Who Drink
DESCRIPTION:
URL:https://huckleberrybrewingcompany.com/event/geeks-who-drink-5/
END:VEVENT
BEGIN:VEVENT
DTSTART;TZID=UTC:20221122T160000
DTEND;TZID=UTC:20221122T200000
DTSTAMP:20260421T111415
CREATED:20221025T152653Z
LAST-MODIFIED:20221025T152653Z
UID:2862-1669132800-1669147200@huckleberrybrewingcompany.com
SUMMARY:$4 Off 64oz Fills
DESCRIPTION:
URL:https://huckleberrybrewingcompany.com/event/4-off-64oz-fills-5/
END:VEVENT
BEGIN:VEVENT
DTSTART;TZID=UTC:20221120T120000
DTEND;TZID=UTC:20221120T150000
DTSTAMP:20260421T111415
CREATED:20221025T153225Z
LAST-MODIFIED:20221025T153225Z
UID:2872-1668945600-1668956400@huckleberrybrewingcompany.com
SUMMARY:Saints v. Rams
DESCRIPTION:
URL:https://huckleberrybrewingcompany.com/event/saints-v-rams/
END:VEVENT
BEGIN:VEVENT
DTSTART;TZID=UTC:20221119T190000
DTEND;TZID=UTC:20221119T220000
DTSTAMP:20260421T111415
CREATED:20221025T151728Z
LAST-MODIFIED:20221025T151728Z
UID:2848-1668884400-1668895200@huckleberrybrewingcompany.com
SUMMARY:Cheater Pipe
DESCRIPTION:
URL:https://huckleberrybrewingcompany.com/event/cheater-pipe/
END:VEVENT
BEGIN:VEVENT
DTSTART;TZID=UTC:20221118T190000
DTEND;TZID=UTC:20221118T220000
DTSTAMP:20260421T111415
CREATED:20221025T151619Z
LAST-MODIFIED:20221025T151619Z
UID:2846-1668798000-1668808800@huckleberrybrewingcompany.com
SUMMARY:Wicked Waters
DESCRIPTION:
URL:https://huckleberrybrewingcompany.com/event/wicked-waters-2/
END:VEVENT
BEGIN:VEVENT
DTSTART;TZID=UTC:20221117T190000
DTEND;TZID=UTC:20221117T220000
DTSTAMP:20260421T111415
CREATED:20221025T150547Z
LAST-MODIFIED:20221025T150547Z
UID:2836-1668711600-1668722400@huckleberrybrewingcompany.com
SUMMARY:Beer Pong Tournament
DESCRIPTION:
URL:https://huckleberrybrewingcompany.com/event/beer-pong-tournament-2/
END:VEVENT
BEGIN:VEVENT
DTSTART;TZID=UTC:20221116T183000
DTEND;TZID=UTC:20221116T210000
DTSTAMP:20260421T111415
CREATED:20221025T145410Z
LAST-MODIFIED:20221025T145410Z
UID:2826-1668623400-1668632400@huckleberrybrewingcompany.com
SUMMARY:Geeks Who Drink
DESCRIPTION:
URL:https://huckleberrybrewingcompany.com/event/geeks-who-drink-4/
END:VEVENT
BEGIN:VEVENT
DTSTART;TZID=UTC:20221115T160000
DTEND;TZID=UTC:20221115T200000
DTSTAMP:20260421T111415
CREATED:20221025T152323Z
LAST-MODIFIED:20221025T152323Z
UID:2860-1668528000-1668542400@huckleberrybrewingcompany.com
SUMMARY:$4 Off 64oz Fills
DESCRIPTION:
URL:https://huckleberrybrewingcompany.com/event/4-off-64oz-fills-4/
END:VEVENT
BEGIN:VEVENT
DTSTART;TZID=UTC:20221113T120000
DTEND;TZID=UTC:20221113T150000
DTSTAMP:20260421T111415
CREATED:20221025T153146Z
LAST-MODIFIED:20221025T153146Z
UID:2870-1668340800-1668351600@huckleberrybrewingcompany.com
SUMMARY:Saints v. Steelers
DESCRIPTION:
URL:https://huckleberrybrewingcompany.com/event/saints-v-steelers/
END:VEVENT
BEGIN:VEVENT
DTSTART;TZID=UTC:20221112T190000
DTEND;TZID=UTC:20221112T220000
DTSTAMP:20260421T111415
CREATED:20221025T151530Z
LAST-MODIFIED:20221025T151530Z
UID:2844-1668279600-1668290400@huckleberrybrewingcompany.com
SUMMARY:Sam Fitzgerald
DESCRIPTION:
URL:https://huckleberrybrewingcompany.com/event/sam-fitzgerald/
END:VEVENT
BEGIN:VEVENT
DTSTART;TZID=UTC:20221111T190000
DTEND;TZID=UTC:20221111T220000
DTSTAMP:20260421T111415
CREATED:20221025T151459Z
LAST-MODIFIED:20221025T151459Z
UID:2842-1668193200-1668204000@huckleberrybrewingcompany.com
SUMMARY:Dash Rip Rock
DESCRIPTION:
URL:https://huckleberrybrewingcompany.com/event/dash-rip-rock/
END:VEVENT
BEGIN:VEVENT
DTSTART;TZID=UTC:20221110T190000
DTEND;TZID=UTC:20221110T220000
DTSTAMP:20260421T111415
CREATED:20221025T150417Z
LAST-MODIFIED:20221025T150417Z
UID:2834-1668106800-1668117600@huckleberrybrewingcompany.com
SUMMARY:Karaoke
DESCRIPTION:
URL:https://huckleberrybrewingcompany.com/event/karaoke-2/
END:VEVENT
BEGIN:VEVENT
DTSTART;TZID=UTC:20221109T183000
DTEND;TZID=UTC:20221109T210000
DTSTAMP:20260421T111415
CREATED:20221025T145316Z
LAST-MODIFIED:20221025T145316Z
UID:2824-1668018600-1668027600@huckleberrybrewingcompany.com
SUMMARY:Geeks Who Drink
DESCRIPTION:
URL:https://huckleberrybrewingcompany.com/event/geeks-who-drink-3/
END:VEVENT
BEGIN:VEVENT
DTSTART;TZID=UTC:20221108T160000
DTEND;TZID=UTC:20221108T200000
DTSTAMP:20260421T111415
CREATED:20221025T152259Z
LAST-MODIFIED:20221025T152259Z
UID:2858-1667923200-1667937600@huckleberrybrewingcompany.com
SUMMARY:$4 Off 64oz Fills
DESCRIPTION:
URL:https://huckleberrybrewingcompany.com/event/4-off-64oz-fills-3/
END:VEVENT
BEGIN:VEVENT
DTSTART;TZID=UTC:20221107T070000
DTEND;TZID=UTC:20221107T220000
DTSTAMP:20260421T111415
CREATED:20221025T152909Z
LAST-MODIFIED:20221025T152909Z
UID:2868-1667804400-1667858400@huckleberrybrewingcompany.com
SUMMARY:Saints v. Ravens
DESCRIPTION:
URL:https://huckleberrybrewingcompany.com/event/saints-v-ravens/
END:VEVENT
BEGIN:VEVENT
DTSTART;TZID=UTC:20221105T190000
DTEND;TZID=UTC:20221105T220000
DTSTAMP:20260421T111415
CREATED:20221025T151433Z
LAST-MODIFIED:20221025T151433Z
UID:2840-1667674800-1667685600@huckleberrybrewingcompany.com
SUMMARY:Jeremy LeWayne
DESCRIPTION:
URL:https://huckleberrybrewingcompany.com/event/jeremy-lewayne/
END:VEVENT
BEGIN:VEVENT
DTSTART;TZID=UTC:20221104T190000
DTEND;TZID=UTC:20221104T220000
DTSTAMP:20260421T111415
CREATED:20221025T151405Z
LAST-MODIFIED:20221025T151405Z
UID:2838-1667588400-1667599200@huckleberrybrewingcompany.com
SUMMARY:Fred Jones Live
DESCRIPTION:
URL:https://huckleberrybrewingcompany.com/event/fred-jones-live/
END:VEVENT
BEGIN:VEVENT
DTSTART;TZID=UTC:20221103T180000
DTEND;TZID=UTC:20221103T210000
DTSTAMP:20260421T111415
CREATED:20221025T150308Z
LAST-MODIFIED:20221025T150308Z
UID:2832-1667498400-1667509200@huckleberrybrewingcompany.com
SUMMARY:Ping Pong Tournament
DESCRIPTION:
URL:https://huckleberrybrewingcompany.com/event/ping-pong-tournament/
END:VEVENT
BEGIN:VEVENT
DTSTART;TZID=UTC:20221102T183000
DTEND;TZID=UTC:20221102T210000
DTSTAMP:20260421T111415
CREATED:20221025T145219Z
LAST-MODIFIED:20221025T145219Z
UID:2822-1667413800-1667422800@huckleberrybrewingcompany.com
SUMMARY:Geeks Who Drink
DESCRIPTION:
URL:https://huckleberrybrewingcompany.com/event/geeks-who-drink-2/
END:VEVENT
END:VCALENDAR