BEGIN:VCALENDAR
VERSION:2.0
PRODID:-//Huckleberry Brewing Company - ECPv6.15.20//NONSGML v1.0//EN
CALSCALE:GREGORIAN
METHOD:PUBLISH
X-WR-CALNAME:Huckleberry Brewing Company
X-ORIGINAL-URL:https://huckleberrybrewingcompany.com
X-WR-CALDESC:Events for Huckleberry Brewing Company
REFRESH-INTERVAL;VALUE=DURATION:PT1H
X-Robots-Tag:noindex
X-PUBLISHED-TTL:PT1H
BEGIN:VTIMEZONE
TZID:UTC
BEGIN:STANDARD
TZOFFSETFROM:+0000
TZOFFSETTO:+0000
TZNAME:UTC
DTSTART:20220101T000000
END:STANDARD
END:VTIMEZONE
BEGIN:VEVENT
DTSTART;TZID=UTC:20230726T183000
DTEND;TZID=UTC:20230726T210000
DTSTAMP:20260422T021739
CREATED:20230517T152556Z
LAST-MODIFIED:20230517T152556Z
UID:3176-1690396200-1690405200@huckleberrybrewingcompany.com
SUMMARY:Geeks Who Drink
DESCRIPTION:
URL:https://huckleberrybrewingcompany.com/event/geeks-who-drink-24/
END:VEVENT
BEGIN:VEVENT
DTSTART;TZID=UTC:20230727T190000
DTEND;TZID=UTC:20230727T220000
DTSTAMP:20260422T021739
CREATED:20230517T152611Z
LAST-MODIFIED:20230517T152611Z
UID:3178-1690484400-1690495200@huckleberrybrewingcompany.com
SUMMARY:Karaoke
DESCRIPTION:
URL:https://huckleberrybrewingcompany.com/event/karaoke-14/
END:VEVENT
BEGIN:VEVENT
DTSTART;TZID=UTC:20230728T190000
DTEND;TZID=UTC:20230728T220000
DTSTAMP:20260422T021739
CREATED:20230517T152628Z
LAST-MODIFIED:20230517T152628Z
UID:3180-1690570800-1690581600@huckleberrybrewingcompany.com
SUMMARY:Eric Leger
DESCRIPTION:
URL:https://huckleberrybrewingcompany.com/event/eric-leger-3/
END:VEVENT
BEGIN:VEVENT
DTSTART;TZID=UTC:20230729T190000
DTEND;TZID=UTC:20230729T220000
DTSTAMP:20260422T021739
CREATED:20230517T152646Z
LAST-MODIFIED:20230517T152646Z
UID:3182-1690657200-1690668000@huckleberrybrewingcompany.com
SUMMARY:Beatles Tribute
DESCRIPTION:
URL:https://huckleberrybrewingcompany.com/event/beatles-tribute/
END:VEVENT
BEGIN:VEVENT
DTSTART;TZID=UTC:20230927T183000
DTEND;TZID=UTC:20230927T210000
DTSTAMP:20260422T021739
CREATED:20230927T161736Z
LAST-MODIFIED:20230927T161736Z
UID:3226-1695839400-1695848400@huckleberrybrewingcompany.com
SUMMARY:Geeks Who Drink Trivia
DESCRIPTION:
URL:https://huckleberrybrewingcompany.com/event/geeks-who-drink-trivia-7/
END:VEVENT
BEGIN:VEVENT
DTSTART;TZID=UTC:20230928T190000
DTEND;TZID=UTC:20230928T220000
DTSTAMP:20260422T021739
CREATED:20230927T161820Z
LAST-MODIFIED:20230927T161820Z
UID:3228-1695927600-1695938400@huckleberrybrewingcompany.com
SUMMARY:Beer Pong Tournament
DESCRIPTION:
URL:https://huckleberrybrewingcompany.com/event/beer-pong-tournament-3/
END:VEVENT
BEGIN:VEVENT
DTSTART;TZID=UTC:20230929T190000
DTEND;TZID=UTC:20230929T220000
DTSTAMP:20260422T021739
CREATED:20230927T161844Z
LAST-MODIFIED:20230927T161844Z
UID:3230-1696014000-1696024800@huckleberrybrewingcompany.com
SUMMARY:Eric Leger Live!
DESCRIPTION:
URL:https://huckleberrybrewingcompany.com/event/eric-leger-live-4/
END:VEVENT
BEGIN:VEVENT
DTSTART;TZID=UTC:20230930T170000
DTEND;TZID=UTC:20230930T220000
DTSTAMP:20260422T021739
CREATED:20230927T162000Z
LAST-MODIFIED:20230927T162000Z
UID:3232-1696093200-1696111200@huckleberrybrewingcompany.com
SUMMARY:KYC Presents Nick Ducote\, K.O.D.\, & Night Revival
DESCRIPTION:
URL:https://huckleberrybrewingcompany.com/event/kyc-presents-nick-ducote-k-o-d-night-revival/
END:VEVENT
BEGIN:VEVENT
DTSTART;VALUE=DATE:20231003
DTEND;VALUE=DATE:20231004
DTSTAMP:20260422T021739
CREATED:20230927T162320Z
LAST-MODIFIED:20230927T162320Z
UID:3249-1696291200-1696377599@huckleberrybrewingcompany.com
SUMMARY:$4 Off 64oz Growler Fills
DESCRIPTION:
URL:https://huckleberrybrewingcompany.com/event/4-off-64oz-growler-fills-5/
END:VEVENT
BEGIN:VEVENT
DTSTART;TZID=UTC:20231004T183000
DTEND;TZID=UTC:20231004T210000
DTSTAMP:20260422T021739
CREATED:20230927T162542Z
LAST-MODIFIED:20230927T162542Z
UID:3269-1696444200-1696453200@huckleberrybrewingcompany.com
SUMMARY:Geeks Who Drink Trivia
DESCRIPTION:
URL:https://huckleberrybrewingcompany.com/event/geeks-who-drink-trivia-8/
END:VEVENT
BEGIN:VEVENT
DTSTART;TZID=UTC:20231005T193000
DTEND;TZID=UTC:20231005T220000
DTSTAMP:20260422T021739
CREATED:20230927T162855Z
LAST-MODIFIED:20230927T162855Z
UID:3287-1696534200-1696543200@huckleberrybrewingcompany.com
SUMMARY:Open Mic Night
DESCRIPTION:
URL:https://huckleberrybrewingcompany.com/event/open-mic-night-4/
END:VEVENT
BEGIN:VEVENT
DTSTART;TZID=UTC:20231006T180000
DTEND;TZID=UTC:20231006T220000
DTSTAMP:20260422T021739
CREATED:20230927T163457Z
LAST-MODIFIED:20230927T163457Z
UID:3301-1696615200-1696629600@huckleberrybrewingcompany.com
SUMMARY:Beer Pairing Dinner w/ La Petite Affaire!
DESCRIPTION:Tickets available at huckleberrybrewingco.square.site \nWith Live Music featuring Derek Ashcraft \nReception \nLion’s Mane “Ceviche” \nHuck Ultra \nCourse One \nMacadamia Crusted Shrimp W/Coconut Mojo \nSummer Dog Mango Wheat \nCourse Two \nCream of Oyster Mushroom Soup \nUpriver IPA \nCourse Three \nCajun Bratwurst W/Sauerkraut & Fest Beer Cheese \nKeep Jammin’ Amber Ale \nCourse Four \nCola & Coffee Braised Beef w/ Mole Poblano & Black Bean Succotash Cake \nThree Card Coffee Stout \nCourse Five \nChocolate Cake W/ Chocolate Buttercream & Chocolate Ganache \nKansas Law Dog Imperial Stout \nSpots are limited! If you choose bar seating\, you will be able to choose where you sit at the bar (first come first served). If you choose table seating\, we will seat you at a table with other guests!
URL:https://huckleberrybrewingcompany.com/event/beer-pairing-dinner-w-la-petite-affaire/
END:VEVENT
BEGIN:VEVENT
DTSTART;TZID=UTC:20231007T190000
DTEND;TZID=UTC:20231007T220000
DTSTAMP:20260422T021739
CREATED:20230927T163522Z
LAST-MODIFIED:20230927T163522Z
UID:3303-1696705200-1696716000@huckleberrybrewingcompany.com
SUMMARY:Dash Rip Rock
DESCRIPTION:
URL:https://huckleberrybrewingcompany.com/event/dash-rip-rock-3/
END:VEVENT
BEGIN:VEVENT
DTSTART;VALUE=DATE:20231009
DTEND;VALUE=DATE:20231010
DTSTAMP:20260422T021739
CREATED:20230927T162041Z
LAST-MODIFIED:20230927T162109Z
UID:3234-1696809600-1696895999@huckleberrybrewingcompany.com
SUMMARY:$5 Pints & $1 Wings
DESCRIPTION:
URL:https://huckleberrybrewingcompany.com/event/5-pints-1-wings/
END:VEVENT
BEGIN:VEVENT
DTSTART;VALUE=DATE:20231010
DTEND;VALUE=DATE:20231011
DTSTAMP:20260422T021739
CREATED:20230927T162334Z
LAST-MODIFIED:20230927T162334Z
UID:3251-1696896000-1696982399@huckleberrybrewingcompany.com
SUMMARY:$4 Off 64oz Growler Fills
DESCRIPTION:
URL:https://huckleberrybrewingcompany.com/event/4-off-64oz-growler-fills-6/
END:VEVENT
BEGIN:VEVENT
DTSTART;TZID=UTC:20231011T183000
DTEND;TZID=UTC:20231011T210000
DTSTAMP:20260422T021739
CREATED:20230927T162613Z
LAST-MODIFIED:20230927T162613Z
UID:3271-1697049000-1697058000@huckleberrybrewingcompany.com
SUMMARY:Geeks Who Drink Trivia
DESCRIPTION:
URL:https://huckleberrybrewingcompany.com/event/geeks-who-drink-trivia-9/
END:VEVENT
BEGIN:VEVENT
DTSTART;TZID=UTC:20231012T193000
DTEND;TZID=UTC:20231012T220000
DTSTAMP:20260422T021739
CREATED:20230927T162942Z
LAST-MODIFIED:20230927T162942Z
UID:3291-1697139000-1697148000@huckleberrybrewingcompany.com
SUMMARY:Karaoke
DESCRIPTION:
URL:https://huckleberrybrewingcompany.com/event/karaoke-16/
END:VEVENT
BEGIN:VEVENT
DTSTART;TZID=UTC:20231013T190000
DTEND;TZID=UTC:20231013T220000
DTSTAMP:20260422T021739
CREATED:20230927T163544Z
LAST-MODIFIED:20230927T163544Z
UID:3305-1697223600-1697234400@huckleberrybrewingcompany.com
SUMMARY:Daniel Goodwill Live
DESCRIPTION:
URL:https://huckleberrybrewingcompany.com/event/daniel-goodwill-live/
END:VEVENT
BEGIN:VEVENT
DTSTART;TZID=UTC:20231014T190000
DTEND;TZID=UTC:20231014T220000
DTSTAMP:20260422T021739
CREATED:20230927T163605Z
LAST-MODIFIED:20230927T163605Z
UID:3307-1697310000-1697320800@huckleberrybrewingcompany.com
SUMMARY:Austin Gauge Live
DESCRIPTION:
URL:https://huckleberrybrewingcompany.com/event/austin-gauge-live/
END:VEVENT
BEGIN:VEVENT
DTSTART;VALUE=DATE:20231016
DTEND;VALUE=DATE:20231017
DTSTAMP:20260422T021739
CREATED:20230927T162130Z
LAST-MODIFIED:20230927T162130Z
UID:3237-1697414400-1697500799@huckleberrybrewingcompany.com
SUMMARY:$5 Pints & $1 Wings
DESCRIPTION:
URL:https://huckleberrybrewingcompany.com/event/5-pints-1-wings-2/
END:VEVENT
BEGIN:VEVENT
DTSTART;VALUE=DATE:20231017
DTEND;VALUE=DATE:20231018
DTSTAMP:20260422T021739
CREATED:20230927T162400Z
LAST-MODIFIED:20230927T162400Z
UID:3255-1697500800-1697587199@huckleberrybrewingcompany.com
SUMMARY:$4 Off 64oz Growler Fills
DESCRIPTION:
URL:https://huckleberrybrewingcompany.com/event/4-off-64oz-growler-fills-8/
END:VEVENT
BEGIN:VEVENT
DTSTART;TZID=UTC:20231018T183000
DTEND;TZID=UTC:20231018T210000
DTSTAMP:20260422T021739
CREATED:20230927T162631Z
LAST-MODIFIED:20230927T162631Z
UID:3273-1697653800-1697662800@huckleberrybrewingcompany.com
SUMMARY:Geeks Who Drink Trivia
DESCRIPTION:
URL:https://huckleberrybrewingcompany.com/event/geeks-who-drink-trivia-10/
END:VEVENT
BEGIN:VEVENT
DTSTART;TZID=UTC:20231019T180000
DTEND;TZID=UTC:20231019T210000
DTSTAMP:20260422T021739
CREATED:20230927T163109Z
LAST-MODIFIED:20230927T163109Z
UID:3295-1697738400-1697749200@huckleberrybrewingcompany.com
SUMMARY:Paint Class with Bayou Brush
DESCRIPTION:https://www.bayoubrusharts.com/
URL:https://huckleberrybrewingcompany.com/event/paint-class-with-bayou-brush/
END:VEVENT
BEGIN:VEVENT
DTSTART;TZID=UTC:20231020T190000
DTEND;TZID=UTC:20231020T220000
DTSTAMP:20260422T021739
CREATED:20230927T163635Z
LAST-MODIFIED:20230927T163635Z
UID:3309-1697828400-1697839200@huckleberrybrewingcompany.com
SUMMARY:RanSolo Live
DESCRIPTION:
URL:https://huckleberrybrewingcompany.com/event/ransolo-live/
END:VEVENT
BEGIN:VEVENT
DTSTART;TZID=UTC:20231021T070000
DTEND;TZID=UTC:20231021T100000
DTSTAMP:20260422T021739
CREATED:20230927T163704Z
LAST-MODIFIED:20230927T163704Z
UID:3311-1697871600-1697882400@huckleberrybrewingcompany.com
SUMMARY:Dauzat St. Marie
DESCRIPTION:
URL:https://huckleberrybrewingcompany.com/event/dauzat-st-marie-2/
END:VEVENT
BEGIN:VEVENT
DTSTART;VALUE=DATE:20231023
DTEND;VALUE=DATE:20231024
DTSTAMP:20260422T021739
CREATED:20230927T162142Z
LAST-MODIFIED:20230927T162142Z
UID:3239-1698019200-1698105599@huckleberrybrewingcompany.com
SUMMARY:$5 Pints & $1 Wings
DESCRIPTION:
URL:https://huckleberrybrewingcompany.com/event/5-pints-1-wings-3/
END:VEVENT
BEGIN:VEVENT
DTSTART;VALUE=DATE:20231024
DTEND;VALUE=DATE:20231025
DTSTAMP:20260422T021739
CREATED:20230927T162346Z
LAST-MODIFIED:20230927T162346Z
UID:3253-1698105600-1698191999@huckleberrybrewingcompany.com
SUMMARY:$4 Off 64oz Growler Fills
DESCRIPTION:
URL:https://huckleberrybrewingcompany.com/event/4-off-64oz-growler-fills-7/
END:VEVENT
BEGIN:VEVENT
DTSTART;TZID=UTC:20231025T183000
DTEND;TZID=UTC:20231025T210000
DTSTAMP:20260422T021739
CREATED:20230927T162649Z
LAST-MODIFIED:20230927T162649Z
UID:3275-1698258600-1698267600@huckleberrybrewingcompany.com
SUMMARY:Geeks Who Drink Trivia
DESCRIPTION:
URL:https://huckleberrybrewingcompany.com/event/geeks-who-drink-trivia-11/
END:VEVENT
BEGIN:VEVENT
DTSTART;TZID=UTC:20231026T180000
DTEND;TZID=UTC:20231026T220000
DTSTAMP:20260422T021739
CREATED:20230927T163301Z
LAST-MODIFIED:20231009T185208Z
UID:3299-1698343200-1698357600@huckleberrybrewingcompany.com
SUMMARY:Half Night for Trojan Theatre Company & Kids Karaoke
DESCRIPTION:We will be donating half of all beer sales to the Trojan Theatre Company. This all ages event will also host Karaoke for all! For more info\, head over to https://www.facebook.com/events/362700842900821?acontext=%7B%22event_action_history%22%3A[%7B%22mechanism%22%3A%22calendar_tab_event%22%2C%22surface%22%3A%22bookmark_calendar%22%7D]%2C%22ref_notif_type%22%3Anull%7D
URL:https://huckleberrybrewingcompany.com/event/half-night-for-ash-theatre-kids-karaoke/
END:VEVENT
BEGIN:VEVENT
DTSTART;TZID=UTC:20231027T190000
DTEND;TZID=UTC:20231027T220000
DTSTAMP:20260422T021739
CREATED:20230927T163723Z
LAST-MODIFIED:20230927T163723Z
UID:3313-1698433200-1698444000@huckleberrybrewingcompany.com
SUMMARY:Gino V.
DESCRIPTION:
URL:https://huckleberrybrewingcompany.com/event/gino-v/
END:VEVENT
END:VCALENDAR