BEGIN:VCALENDAR
VERSION:2.0
PRODID:-//Huckleberry Brewing Company - ECPv6.15.20//NONSGML v1.0//EN
CALSCALE:GREGORIAN
METHOD:PUBLISH
X-ORIGINAL-URL:https://huckleberrybrewingcompany.com
X-WR-CALDESC:Events for Huckleberry Brewing Company
REFRESH-INTERVAL;VALUE=DURATION:PT1H
X-Robots-Tag:noindex
X-PUBLISHED-TTL:PT1H
BEGIN:VTIMEZONE
TZID:UTC
BEGIN:STANDARD
TZOFFSETFROM:+0000
TZOFFSETTO:+0000
TZNAME:UTC
DTSTART:20220101T000000
END:STANDARD
END:VTIMEZONE
BEGIN:VEVENT
DTSTART;TZID=UTC:20230526T190000
DTEND;TZID=UTC:20230526T220000
DTSTAMP:20260421T200204
CREATED:20230517T150953Z
LAST-MODIFIED:20230517T150953Z
UID:3096-1685127600-1685138400@huckleberrybrewingcompany.com
SUMMARY:Eric Leger Live
DESCRIPTION:
URL:https://huckleberrybrewingcompany.com/event/eric-leger-live-2/
END:VEVENT
BEGIN:VEVENT
DTSTART;TZID=UTC:20230527T190000
DTEND;TZID=UTC:20230527T220000
DTSTAMP:20260421T200204
CREATED:20230517T151013Z
LAST-MODIFIED:20230517T151013Z
UID:3098-1685214000-1685224800@huckleberrybrewingcompany.com
SUMMARY:Come 2 Life
DESCRIPTION:
URL:https://huckleberrybrewingcompany.com/event/come-2-life/
END:VEVENT
BEGIN:VEVENT
DTSTART;TZID=UTC:20230530T160000
DTEND;TZID=UTC:20230530T160000
DTSTAMP:20260421T200204
CREATED:20230517T151038Z
LAST-MODIFIED:20230517T151038Z
UID:3100-1685462400-1685462400@huckleberrybrewingcompany.com
SUMMARY:$4 Off Growler Fills
DESCRIPTION:
URL:https://huckleberrybrewingcompany.com/event/4-off-growler-fills-13/
END:VEVENT
BEGIN:VEVENT
DTSTART;TZID=UTC:20230531T183000
DTEND;TZID=UTC:20230531T210000
DTSTAMP:20260421T200204
CREATED:20230517T151055Z
LAST-MODIFIED:20230517T151055Z
UID:3102-1685557800-1685566800@huckleberrybrewingcompany.com
SUMMARY:Geeks Who Drink
DESCRIPTION:
URL:https://huckleberrybrewingcompany.com/event/geeks-who-drink-17/
END:VEVENT
BEGIN:VEVENT
DTSTART;TZID=UTC:20230601T190000
DTEND;TZID=UTC:20230601T220000
DTSTAMP:20260421T200204
CREATED:20230517T151122Z
LAST-MODIFIED:20230517T151122Z
UID:3104-1685646000-1685656800@huckleberrybrewingcompany.com
SUMMARY:Open Mic Night
DESCRIPTION:
URL:https://huckleberrybrewingcompany.com/event/open-mic-night-3/
END:VEVENT
BEGIN:VEVENT
DTSTART;TZID=UTC:20230602T070000
DTEND;TZID=UTC:20230602T100000
DTSTAMP:20260421T200204
CREATED:20230517T151158Z
LAST-MODIFIED:20230517T151158Z
UID:3106-1685689200-1685700000@huckleberrybrewingcompany.com
SUMMARY:First Friday w/ Fred!
DESCRIPTION:
URL:https://huckleberrybrewingcompany.com/event/first-friday-w-fred-2/
END:VEVENT
BEGIN:VEVENT
DTSTART;TZID=UTC:20230603T190000
DTEND;TZID=UTC:20230603T220000
DTSTAMP:20260421T200204
CREATED:20230517T151228Z
LAST-MODIFIED:20230517T151228Z
UID:3108-1685818800-1685829600@huckleberrybrewingcompany.com
SUMMARY:Grits & Greens
DESCRIPTION:
URL:https://huckleberrybrewingcompany.com/event/grits-greens/
END:VEVENT
BEGIN:VEVENT
DTSTART;TZID=UTC:20230606T160000
DTEND;TZID=UTC:20230606T200000
DTSTAMP:20260421T200204
CREATED:20230517T151315Z
LAST-MODIFIED:20230517T151315Z
UID:3110-1686067200-1686081600@huckleberrybrewingcompany.com
SUMMARY:$4 Off Growler Fills
DESCRIPTION:
URL:https://huckleberrybrewingcompany.com/event/4-off-growler-fills-14/
END:VEVENT
BEGIN:VEVENT
DTSTART;TZID=UTC:20230607T183000
DTEND;TZID=UTC:20230607T210000
DTSTAMP:20260421T200204
CREATED:20230517T151336Z
LAST-MODIFIED:20230517T151336Z
UID:3112-1686162600-1686171600@huckleberrybrewingcompany.com
SUMMARY:Geeks Who Drink
DESCRIPTION:
URL:https://huckleberrybrewingcompany.com/event/geeks-who-drink-18/
END:VEVENT
BEGIN:VEVENT
DTSTART;TZID=UTC:20230608T190000
DTEND;TZID=UTC:20230608T220000
DTSTAMP:20260421T200204
CREATED:20230517T151355Z
LAST-MODIFIED:20230517T151355Z
UID:3114-1686250800-1686261600@huckleberrybrewingcompany.com
SUMMARY:Karaoke
DESCRIPTION:
URL:https://huckleberrybrewingcompany.com/event/karaoke-11/
END:VEVENT
BEGIN:VEVENT
DTSTART;TZID=UTC:20230609T190000
DTEND;TZID=UTC:20230609T220000
DTSTAMP:20260421T200204
CREATED:20230517T151423Z
LAST-MODIFIED:20230517T151423Z
UID:3116-1686337200-1686348000@huckleberrybrewingcompany.com
SUMMARY:5th Birthday Bonanza - Dueling Pianos!
DESCRIPTION:
URL:https://huckleberrybrewingcompany.com/event/5th-birthday-bonanza-dueling-pianos/
END:VEVENT
BEGIN:VEVENT
DTSTART;VALUE=DATE:20230610
DTEND;VALUE=DATE:20230611
DTSTAMP:20260421T200204
CREATED:20230517T151454Z
LAST-MODIFIED:20230517T151454Z
UID:3118-1686355200-1686441599@huckleberrybrewingcompany.com
SUMMARY:5th Birthday Bonanza - Huck Side of the Moon
DESCRIPTION:A Pink Floyd Tribute!
URL:https://huckleberrybrewingcompany.com/event/5th-birthday-bonanza-huck-side-of-the-moon/
END:VEVENT
BEGIN:VEVENT
DTSTART;TZID=UTC:20230613T160000
DTEND;TZID=UTC:20230613T200000
DTSTAMP:20260421T200204
CREATED:20230517T151519Z
LAST-MODIFIED:20230517T151519Z
UID:3120-1686672000-1686686400@huckleberrybrewingcompany.com
SUMMARY:$4 Off Growler Fills
DESCRIPTION:
URL:https://huckleberrybrewingcompany.com/event/4-off-growler-fills-15/
END:VEVENT
BEGIN:VEVENT
DTSTART;TZID=UTC:20230614T183000
DTEND;TZID=UTC:20230614T210000
DTSTAMP:20260421T200204
CREATED:20230517T151544Z
LAST-MODIFIED:20230517T151544Z
UID:3122-1686767400-1686776400@huckleberrybrewingcompany.com
SUMMARY:Geeks Who Drink
DESCRIPTION:
URL:https://huckleberrybrewingcompany.com/event/geeks-who-drink-19/
END:VEVENT
BEGIN:VEVENT
DTSTART;TZID=UTC:20230615T180000
DTEND;TZID=UTC:20230615T210000
DTSTAMP:20260421T200204
CREATED:20230517T151608Z
LAST-MODIFIED:20230517T151608Z
UID:3124-1686852000-1686862800@huckleberrybrewingcompany.com
SUMMARY:Paint Class
DESCRIPTION:https://www.bayoubrusharts.com/book-online
URL:https://huckleberrybrewingcompany.com/event/paint-class-2/
END:VEVENT
BEGIN:VEVENT
DTSTART;TZID=UTC:20230616T070000
DTEND;TZID=UTC:20230616T220000
DTSTAMP:20260421T200204
CREATED:20230517T151633Z
LAST-MODIFIED:20230517T151633Z
UID:3126-1686898800-1686952800@huckleberrybrewingcompany.com
SUMMARY:Derek Ashcraft Live
DESCRIPTION:
URL:https://huckleberrybrewingcompany.com/event/derek-ashcraft-live/
END:VEVENT
BEGIN:VEVENT
DTSTART;TZID=UTC:20230617T190000
DTEND;TZID=UTC:20230617T220000
DTSTAMP:20260421T200204
CREATED:20230517T151657Z
LAST-MODIFIED:20230517T151657Z
UID:3128-1687028400-1687039200@huckleberrybrewingcompany.com
SUMMARY:Post Profit & Stella Vir
DESCRIPTION:
URL:https://huckleberrybrewingcompany.com/event/post-profit-stella-vir/
END:VEVENT
BEGIN:VEVENT
DTSTART;TZID=UTC:20230620T160000
DTEND;TZID=UTC:20230620T200000
DTSTAMP:20260421T200204
CREATED:20230517T151724Z
LAST-MODIFIED:20230517T151724Z
UID:3130-1687276800-1687291200@huckleberrybrewingcompany.com
SUMMARY:$ Off Growler Fills
DESCRIPTION:
URL:https://huckleberrybrewingcompany.com/event/off-growler-fills/
END:VEVENT
BEGIN:VEVENT
DTSTART;TZID=UTC:20230621T183000
DTEND;TZID=UTC:20230621T210000
DTSTAMP:20260421T200204
CREATED:20230517T151744Z
LAST-MODIFIED:20230517T151744Z
UID:3132-1687372200-1687381200@huckleberrybrewingcompany.com
SUMMARY:Geeks Who Drink
DESCRIPTION:
URL:https://huckleberrybrewingcompany.com/event/geeks-who-drink-20/
END:VEVENT
BEGIN:VEVENT
DTSTART;TZID=UTC:20230622T190000
DTEND;TZID=UTC:20230622T220000
DTSTAMP:20260421T200204
CREATED:20230517T151809Z
LAST-MODIFIED:20230517T151809Z
UID:3134-1687460400-1687471200@huckleberrybrewingcompany.com
SUMMARY:Karaoke
DESCRIPTION:
URL:https://huckleberrybrewingcompany.com/event/karaoke-12/
END:VEVENT
BEGIN:VEVENT
DTSTART;TZID=UTC:20230623T190000
DTEND;TZID=UTC:20230623T220000
DTSTAMP:20260421T200204
CREATED:20230517T151829Z
LAST-MODIFIED:20230517T151829Z
UID:3136-1687546800-1687557600@huckleberrybrewingcompany.com
SUMMARY:Eric Leger Live!
DESCRIPTION:
URL:https://huckleberrybrewingcompany.com/event/eric-leger-live-3/
END:VEVENT
BEGIN:VEVENT
DTSTART;TZID=UTC:20230624T190000
DTEND;TZID=UTC:20230624T230000
DTSTAMP:20260421T200204
CREATED:20230517T151903Z
LAST-MODIFIED:20230622T163858Z
UID:3138-1687633200-1687647600@huckleberrybrewingcompany.com
SUMMARY:Closed for Private Event after 7pm.
DESCRIPTION:
URL:https://huckleberrybrewingcompany.com/event/closed-for-private-event-2/
END:VEVENT
BEGIN:VEVENT
DTSTART;TZID=UTC:20230630T190000
DTEND;TZID=UTC:20230630T220000
DTSTAMP:20260421T200204
CREATED:20230517T151932Z
LAST-MODIFIED:20230517T151932Z
UID:3140-1688151600-1688162400@huckleberrybrewingcompany.com
SUMMARY:Church & State
DESCRIPTION:
URL:https://huckleberrybrewingcompany.com/event/church-state/
END:VEVENT
BEGIN:VEVENT
DTSTART;TZID=UTC:20230701T190000
DTEND;TZID=UTC:20230701T220000
DTSTAMP:20260421T200204
CREATED:20230517T151953Z
LAST-MODIFIED:20230517T151953Z
UID:3142-1688238000-1688248800@huckleberrybrewingcompany.com
SUMMARY:Zach Edwards & The Medicine
DESCRIPTION:
URL:https://huckleberrybrewingcompany.com/event/zach-edwards-the-medicine/
END:VEVENT
BEGIN:VEVENT
DTSTART;TZID=UTC:20230704T160000
DTEND;TZID=UTC:20230704T200000
DTSTAMP:20260421T200204
CREATED:20230517T152015Z
LAST-MODIFIED:20230517T152015Z
UID:3144-1688486400-1688500800@huckleberrybrewingcompany.com
SUMMARY:$4 Off Growler Fills
DESCRIPTION:
URL:https://huckleberrybrewingcompany.com/event/4-off-growler-fills-16/
END:VEVENT
BEGIN:VEVENT
DTSTART;TZID=UTC:20230705T183000
DTEND;TZID=UTC:20230705T210000
DTSTAMP:20260421T200204
CREATED:20230517T152031Z
LAST-MODIFIED:20230517T152031Z
UID:3146-1688581800-1688590800@huckleberrybrewingcompany.com
SUMMARY:Geeks Who Drink
DESCRIPTION:
URL:https://huckleberrybrewingcompany.com/event/geeks-who-drink-21/
END:VEVENT
BEGIN:VEVENT
DTSTART;TZID=UTC:20230706T190000
DTEND;TZID=UTC:20230706T220000
DTSTAMP:20260421T200204
CREATED:20230517T152047Z
LAST-MODIFIED:20230517T152047Z
UID:3148-1688670000-1688680800@huckleberrybrewingcompany.com
SUMMARY:Open Mic
DESCRIPTION:
URL:https://huckleberrybrewingcompany.com/event/open-mic/
END:VEVENT
BEGIN:VEVENT
DTSTART;TZID=UTC:20230707T190000
DTEND;TZID=UTC:20230707T220000
DTSTAMP:20260421T200204
CREATED:20230517T152109Z
LAST-MODIFIED:20230517T152109Z
UID:3150-1688756400-1688767200@huckleberrybrewingcompany.com
SUMMARY:First Friday w/ Fred
DESCRIPTION:
URL:https://huckleberrybrewingcompany.com/event/first-friday-w-fred-3/
END:VEVENT
BEGIN:VEVENT
DTSTART;TZID=UTC:20230708T190000
DTEND;TZID=UTC:20230708T220000
DTSTAMP:20260421T200204
CREATED:20230517T152129Z
LAST-MODIFIED:20230517T152129Z
UID:3152-1688842800-1688853600@huckleberrybrewingcompany.com
SUMMARY:Cane River Soul
DESCRIPTION:
URL:https://huckleberrybrewingcompany.com/event/cane-river-soul-3/
END:VEVENT
BEGIN:VEVENT
DTSTART;TZID=UTC:20230711T160000
DTEND;TZID=UTC:20230711T200000
DTSTAMP:20260421T200204
CREATED:20230517T152150Z
LAST-MODIFIED:20230517T152150Z
UID:3154-1689091200-1689105600@huckleberrybrewingcompany.com
SUMMARY:$4 Off Growler Fills
DESCRIPTION:
URL:https://huckleberrybrewingcompany.com/event/4-off-growler-fills-17/
END:VEVENT
END:VCALENDAR