BEGIN:VCALENDAR
VERSION:2.0
PRODID:-//Huckleberry Brewing Company - ECPv6.15.20//NONSGML v1.0//EN
CALSCALE:GREGORIAN
METHOD:PUBLISH
X-WR-CALNAME:Huckleberry Brewing Company
X-ORIGINAL-URL:https://huckleberrybrewingcompany.com
X-WR-CALDESC:Events for Huckleberry Brewing Company
REFRESH-INTERVAL;VALUE=DURATION:PT1H
X-Robots-Tag:noindex
X-PUBLISHED-TTL:PT1H
BEGIN:VTIMEZONE
TZID:UTC
BEGIN:STANDARD
TZOFFSETFROM:+0000
TZOFFSETTO:+0000
TZNAME:UTC
DTSTART:20210101T000000
END:STANDARD
END:VTIMEZONE
BEGIN:VEVENT
DTSTART;VALUE=DATE:20221220
DTEND;VALUE=DATE:20221221
DTSTAMP:20260421T082606
CREATED:20221201T173557Z
LAST-MODIFIED:20221201T173557Z
UID:2898-1671494400-1671580799@huckleberrybrewingcompany.com
SUMMARY:$4 off 64oz Growler Fills
DESCRIPTION:
URL:https://huckleberrybrewingcompany.com/event/4-off-64oz-growler-fills-3/
END:VEVENT
BEGIN:VEVENT
DTSTART;TZID=UTC:20221221T183000
DTEND;TZID=UTC:20221221T210000
DTSTAMP:20260421T082606
CREATED:20221201T173736Z
LAST-MODIFIED:20221201T173736Z
UID:2906-1671647400-1671656400@huckleberrybrewingcompany.com
SUMMARY:Geeks Who Drink Trivia
DESCRIPTION:
URL:https://huckleberrybrewingcompany.com/event/geeks-who-drink-trivia-5/
END:VEVENT
BEGIN:VEVENT
DTSTART;TZID=UTC:20221222T190000
DTEND;TZID=UTC:20221222T220000
DTSTAMP:20260421T082606
CREATED:20221201T173932Z
LAST-MODIFIED:20221201T173932Z
UID:2912-1671735600-1671746400@huckleberrybrewingcompany.com
SUMMARY:Karaoke
DESCRIPTION:
URL:https://huckleberrybrewingcompany.com/event/karaoke-4/
END:VEVENT
BEGIN:VEVENT
DTSTART;TZID=UTC:20221223T190000
DTEND;TZID=UTC:20221223T220000
DTSTAMP:20260421T082606
CREATED:20221201T174448Z
LAST-MODIFIED:20221201T174520Z
UID:2926-1671822000-1671832800@huckleberrybrewingcompany.com
SUMMARY:CJ's Santa Jam
DESCRIPTION:https://www.facebook.com/events/397897005754325 \nJoin us for CJ’s Santa Jam! Our own CJ Ward will be leading an all-star jam of local musicians. Come out for a nice night of variety to get your holiday weekend kicked off right! Cheers!
URL:https://huckleberrybrewingcompany.com/event/cjs-santa-jam/
END:VEVENT
BEGIN:VEVENT
DTSTART;VALUE=DATE:20221227
DTEND;VALUE=DATE:20221228
DTSTAMP:20260421T082606
CREATED:20221201T173609Z
LAST-MODIFIED:20221201T173609Z
UID:2900-1672099200-1672185599@huckleberrybrewingcompany.com
SUMMARY:$4 off 64oz Growler Fills
DESCRIPTION:
URL:https://huckleberrybrewingcompany.com/event/4-off-64oz-growler-fills-4/
END:VEVENT
BEGIN:VEVENT
DTSTART;TZID=UTC:20221228T183000
DTEND;TZID=UTC:20221228T210000
DTSTAMP:20260421T082606
CREATED:20221201T173753Z
LAST-MODIFIED:20221201T173753Z
UID:2908-1672252200-1672261200@huckleberrybrewingcompany.com
SUMMARY:Geeks Who Drink Trivia
DESCRIPTION:
URL:https://huckleberrybrewingcompany.com/event/geeks-who-drink-trivia-6/
END:VEVENT
BEGIN:VEVENT
DTSTART;TZID=UTC:20221229T190000
DTEND;TZID=UTC:20221229T220000
DTSTAMP:20260421T082606
CREATED:20221201T174024Z
LAST-MODIFIED:20221201T174024Z
UID:2916-1672340400-1672351200@huckleberrybrewingcompany.com
SUMMARY:Eric Leger Live
DESCRIPTION:
URL:https://huckleberrybrewingcompany.com/event/eric-leger-live/
END:VEVENT
BEGIN:VEVENT
DTSTART;TZID=UTC:20221230T190000
DTEND;TZID=UTC:20221230T220000
DTSTAMP:20260421T082606
CREATED:20221201T174607Z
LAST-MODIFIED:20221201T174607Z
UID:2928-1672426800-1672437600@huckleberrybrewingcompany.com
SUMMARY:Friendly Jeans Live
DESCRIPTION:
URL:https://huckleberrybrewingcompany.com/event/friendly-jeans-live/
END:VEVENT
BEGIN:VEVENT
DTSTART;TZID=UTC:20221231T213000
DTEND;TZID=UTC:20230101T003000
DTSTAMP:20260421T082606
CREATED:20221201T174642Z
LAST-MODIFIED:20221201T174642Z
UID:2930-1672522200-1672533000@huckleberrybrewingcompany.com
SUMMARY:Deaf Jam NYE Party!
DESCRIPTION:
URL:https://huckleberrybrewingcompany.com/event/deaf-jam-nye-party/
END:VEVENT
BEGIN:VEVENT
DTSTART;VALUE=DATE:20230207
DTEND;VALUE=DATE:20230208
DTSTAMP:20260421T082606
CREATED:20230207T151721Z
LAST-MODIFIED:20230207T151721Z
UID:2939-1675728000-1675814399@huckleberrybrewingcompany.com
SUMMARY:$4 Off Growler Fills
DESCRIPTION:
URL:https://huckleberrybrewingcompany.com/event/4-off-growler-fills/
END:VEVENT
BEGIN:VEVENT
DTSTART;TZID=UTC:20230208T183000
DTEND;TZID=UTC:20230208T210000
DTSTAMP:20260421T082606
CREATED:20230207T152016Z
LAST-MODIFIED:20230207T152016Z
UID:2947-1675881000-1675890000@huckleberrybrewingcompany.com
SUMMARY:Geeks Who Drink
DESCRIPTION:
URL:https://huckleberrybrewingcompany.com/event/geeks-who-drink-7/
END:VEVENT
BEGIN:VEVENT
DTSTART;TZID=UTC:20230209T190000
DTEND;TZID=UTC:20230209T220000
DTSTAMP:20260421T082606
CREATED:20230207T152910Z
LAST-MODIFIED:20230207T152910Z
UID:2955-1675969200-1675980000@huckleberrybrewingcompany.com
SUMMARY:Karaoke
DESCRIPTION:
URL:https://huckleberrybrewingcompany.com/event/karaoke-5/
END:VEVENT
BEGIN:VEVENT
DTSTART;TZID=UTC:20230210T190000
DTEND;TZID=UTC:20230210T220000
DTSTAMP:20260421T082606
CREATED:20230207T153234Z
LAST-MODIFIED:20230207T153234Z
UID:2961-1676055600-1676066400@huckleberrybrewingcompany.com
SUMMARY:Sam Fitzgerald
DESCRIPTION:
URL:https://huckleberrybrewingcompany.com/event/sam-fitzgerald-2/
END:VEVENT
BEGIN:VEVENT
DTSTART;TZID=UTC:20230211T190000
DTEND;TZID=UTC:20230211T220000
DTSTAMP:20260421T082606
CREATED:20230207T153501Z
LAST-MODIFIED:20230207T153501Z
UID:2967-1676142000-1676152800@huckleberrybrewingcompany.com
SUMMARY:Sound of Change
DESCRIPTION:
URL:https://huckleberrybrewingcompany.com/event/sound-of-change/
END:VEVENT
BEGIN:VEVENT
DTSTART;TZID=UTC:20230212T160000
DTEND;TZID=UTC:20230212T210000
DTSTAMP:20260421T082606
CREATED:20230207T153718Z
LAST-MODIFIED:20230207T153718Z
UID:2973-1676217600-1676235600@huckleberrybrewingcompany.com
SUMMARY:Super Bowl Pot Luck Cook-Off
DESCRIPTION:
URL:https://huckleberrybrewingcompany.com/event/super-bowl-pot-luck-cook-off/
END:VEVENT
BEGIN:VEVENT
DTSTART;VALUE=DATE:20230214
DTEND;VALUE=DATE:20230215
DTSTAMP:20260421T082606
CREATED:20230207T151832Z
LAST-MODIFIED:20230207T151832Z
UID:2941-1676332800-1676419199@huckleberrybrewingcompany.com
SUMMARY:$4 Off Growler Fills
DESCRIPTION:
URL:https://huckleberrybrewingcompany.com/event/4-off-growler-fills-2/
END:VEVENT
BEGIN:VEVENT
DTSTART;TZID=UTC:20230215T183000
DTEND;TZID=UTC:20230215T210000
DTSTAMP:20260421T082606
CREATED:20230207T152044Z
LAST-MODIFIED:20230207T152044Z
UID:2949-1676485800-1676494800@huckleberrybrewingcompany.com
SUMMARY:Geeks Who Drink
DESCRIPTION:
URL:https://huckleberrybrewingcompany.com/event/geeks-who-drink-8/
END:VEVENT
BEGIN:VEVENT
DTSTART;TZID=UTC:20230216T180000
DTEND;TZID=UTC:20230216T210000
DTSTAMP:20260421T082606
CREATED:20230207T153013Z
LAST-MODIFIED:20230207T153013Z
UID:2957-1676570400-1676581200@huckleberrybrewingcompany.com
SUMMARY:Paint Class w/ Bayou Brush
DESCRIPTION:Purchase tickets here: \nhttps://www.bayoubrusharts.com/service-page/hbc-feb-2023?referral=service_list_widget
URL:https://huckleberrybrewingcompany.com/event/paint-class-w-bayou-brush/
END:VEVENT
BEGIN:VEVENT
DTSTART;TZID=UTC:20230217T190000
DTEND;TZID=UTC:20230217T220000
DTSTAMP:20260421T082606
CREATED:20230207T153301Z
LAST-MODIFIED:20230207T153301Z
UID:2963-1676660400-1676671200@huckleberrybrewingcompany.com
SUMMARY:Dale's Birthday Party
DESCRIPTION:
URL:https://huckleberrybrewingcompany.com/event/dales-birthday-party/
END:VEVENT
BEGIN:VEVENT
DTSTART;TZID=UTC:20230218T190000
DTEND;TZID=UTC:20230218T220000
DTSTAMP:20260421T082606
CREATED:20230207T153538Z
LAST-MODIFIED:20230207T153538Z
UID:2969-1676746800-1676757600@huckleberrybrewingcompany.com
SUMMARY:Open Mic Night
DESCRIPTION:
URL:https://huckleberrybrewingcompany.com/event/open-mic-night/
END:VEVENT
BEGIN:VEVENT
DTSTART;TZID=UTC:20230219T140000
DTEND;TZID=UTC:20230219T210000
DTSTAMP:20260421T082606
CREATED:20230207T153801Z
LAST-MODIFIED:20230207T153801Z
UID:2975-1676815200-1676840400@huckleberrybrewingcompany.com
SUMMARY:Finale Royale - Post Parade Party
DESCRIPTION:
URL:https://huckleberrybrewingcompany.com/event/finale-royale-post-parade-party/
END:VEVENT
BEGIN:VEVENT
DTSTART;VALUE=DATE:20230221
DTEND;VALUE=DATE:20230222
DTSTAMP:20260421T082606
CREATED:20230207T151920Z
LAST-MODIFIED:20230207T151920Z
UID:2943-1676937600-1677023999@huckleberrybrewingcompany.com
SUMMARY:$4 Off Growler Fills
DESCRIPTION:
URL:https://huckleberrybrewingcompany.com/event/4-off-growler-fills-3/
END:VEVENT
BEGIN:VEVENT
DTSTART;TZID=UTC:20230222T183000
DTEND;TZID=UTC:20230222T210000
DTSTAMP:20260421T082606
CREATED:20230207T152611Z
LAST-MODIFIED:20230207T152611Z
UID:2953-1677090600-1677099600@huckleberrybrewingcompany.com
SUMMARY:Geeks Who Drink
DESCRIPTION:
URL:https://huckleberrybrewingcompany.com/event/geeks-who-drink-10/
END:VEVENT
BEGIN:VEVENT
DTSTART;TZID=UTC:20230223T190000
DTEND;TZID=UTC:20230223T220000
DTSTAMP:20260421T082606
CREATED:20230207T153032Z
LAST-MODIFIED:20230207T153032Z
UID:2959-1677178800-1677189600@huckleberrybrewingcompany.com
SUMMARY:Karaoke
DESCRIPTION:
URL:https://huckleberrybrewingcompany.com/event/karaoke-6/
END:VEVENT
BEGIN:VEVENT
DTSTART;TZID=UTC:20230224T190000
DTEND;TZID=UTC:20230224T220000
DTSTAMP:20260421T082606
CREATED:20230207T153418Z
LAST-MODIFIED:20230207T153418Z
UID:2965-1677265200-1677276000@huckleberrybrewingcompany.com
SUMMARY:Sammy QaDan
DESCRIPTION:
URL:https://huckleberrybrewingcompany.com/event/sammy-qadan/
END:VEVENT
BEGIN:VEVENT
DTSTART;TZID=UTC:20230225T190000
DTEND;TZID=UTC:20230225T220000
DTSTAMP:20260421T082606
CREATED:20230207T153618Z
LAST-MODIFIED:20230207T153618Z
UID:2971-1677351600-1677362400@huckleberrybrewingcompany.com
SUMMARY:Zach Edwards
DESCRIPTION:
URL:https://huckleberrybrewingcompany.com/event/zach-edwards/
END:VEVENT
BEGIN:VEVENT
DTSTART;VALUE=DATE:20230228
DTEND;VALUE=DATE:20230301
DTSTAMP:20260421T082606
CREATED:20230207T151939Z
LAST-MODIFIED:20230207T151939Z
UID:2945-1677542400-1677628799@huckleberrybrewingcompany.com
SUMMARY:$4 Off Growler Fills
DESCRIPTION:
URL:https://huckleberrybrewingcompany.com/event/4-off-growler-fills-4/
END:VEVENT
BEGIN:VEVENT
DTSTART;TZID=UTC:20230301T183000
DTEND;TZID=UTC:20230301T210000
DTSTAMP:20260421T082606
CREATED:20230207T154134Z
LAST-MODIFIED:20230207T154134Z
UID:2977-1677695400-1677704400@huckleberrybrewingcompany.com
SUMMARY:Geeks Who Drink
DESCRIPTION:
URL:https://huckleberrybrewingcompany.com/event/geeks-who-drink-9/
END:VEVENT
BEGIN:VEVENT
DTSTART;TZID=UTC:20230302T190000
DTEND;TZID=UTC:20230302T220000
DTSTAMP:20260421T082606
CREATED:20230207T154900Z
LAST-MODIFIED:20230207T154900Z
UID:2995-1677783600-1677794400@huckleberrybrewingcompany.com
SUMMARY:Beer Pong Tourney
DESCRIPTION:
URL:https://huckleberrybrewingcompany.com/event/beer-pong-tourney-2/
END:VEVENT
BEGIN:VEVENT
DTSTART;TZID=UTC:20230303T190000
DTEND;TZID=UTC:20230303T220000
DTSTAMP:20260421T082606
CREATED:20230207T155156Z
LAST-MODIFIED:20230207T155156Z
UID:3003-1677870000-1677880800@huckleberrybrewingcompany.com
SUMMARY:First Friday w/ Fred
DESCRIPTION:
URL:https://huckleberrybrewingcompany.com/event/first-friday-w-fred/
END:VEVENT
END:VCALENDAR